BEGIN:VCALENDAR
VERSION:2.0
PRODID:https://github.com/derhansen/sf_event_mgt
BEGIN:VTIMEZONE
TZID:CET
BEGIN:DAYLIGHT
TZOFFSETFROM:+0100
TZOFFSETTO:+0200
TZNAME:Central European Summer Time
DTSTART:20160327T020000
RRULE:FREQ=YEARLY;BYDAY=-1SU;BYMONTH=3
END:DAYLIGHT
BEGIN:STANDARD
TZOFFSETFROM:+0200
TZOFFSETTO:+0100
TZNAME:Central European Time
DTSTART:20161030T030000
RRULE:FREQ=YEARLY;BYDAY=-1SU;BYMONTH=10
END:STANDARD
END:VTIMEZONE
METHOD:PUBLISH
BEGIN:VEVENT
UID:1557-444@www.htw-dresden.de
CLASS: PUBLIC
SUMMARY:Kommission Forschung
DESCRIPTION:<p>Die Sitzung ist nur für Mitglieder der Kommission geöffnet.<
 /p>\n\n<p>Themen: Informationen zur Forschungsförderung 2021-24; aktuelle I
 nformationen aus dem Prorektorat Forschung und weiteres.</p>
LOCATION:Online-Vortrag
DTSTAMP:20210614T121530
DTSTART:20210720T153000
DTEND:20210720T170000
END:VEVENT
END:VCALENDAR