BEGIN:VCALENDAR
VERSION:2.0
PRODID:https://github.com/derhansen/sf_event_mgt
BEGIN:VTIMEZONE
TZID:CET
BEGIN:DAYLIGHT
TZOFFSETFROM:+0100
TZOFFSETTO:+0200
TZNAME:Central European Summer Time
DTSTART:20160327T020000
RRULE:FREQ=YEARLY;BYDAY=-1SU;BYMONTH=3
END:DAYLIGHT
BEGIN:STANDARD
TZOFFSETFROM:+0200
TZOFFSETTO:+0100
TZNAME:Central European Time
DTSTART:20161030T030000
RRULE:FREQ=YEARLY;BYDAY=-1SU;BYMONTH=10
END:STANDARD
END:VTIMEZONE
METHOD:PUBLISH
BEGIN:VEVENT
UID:4010-448@www.htw-dresden.de
CLASS: PUBLIC
SUMMARY:Kompetenzorientiert und valide prüfen
DESCRIPTION:<p>Prüfungen erzeugen oft nicht nur bei Studierenden schlaflose
  Nächte, sondern auch bei Dozierenden. Die Verantwortung, die Lehrende in i
 hrer Funktion als Prüfende übernehmen, ist groß, die Erfahrung damit oft ge
 ring. Deshalb widmet sich der Workshop vor allem den folgenden Fragen: Welc
 he Funktionen haben verschiedene Prüfungen? Was muss ich bei der Vorbereitu
 ng, Durchführung und Bewertung einer Prüfung beachten? Wie kann ich eine Pr
 üfung so gestalten, dass sie den Testgütekriterien entspricht, rechtlich fe
 hlerfrei abläuft und für den Prüfling als auch für den Prüfenden fair abläu
 ft? Und welche Vor- und Nachteile haben verschiedene Prüfungsformen? Wie be
 einflusst KI die Prüfungslandschaft an Universitäten? Die Beantwortung dies
 er Fragen hilft bei der Vorbereitung, Durchführung und Nachbereitung einer 
 gelungenen Prüfung.</p>\n\n<p><strong>Ablauf:</strong></p>\n\n<ol><li>Ab de
 m 09.09.2026 werden die Kursteilnehmenden durch Arbeitsmaterial und eine kl
 einere Aufgabe auf die Kursinhalte vorbereitet.</li><li>Am 23.09.2026 von 1
 0 bis 17 Uhr findet eine eintägige synchrone Online-Veranstaltung statt, in
  der sich Inputphasen mit Kleingruppen und Einzelarbeitsphasen abwechseln.<
 /li><li>Abschließend lädt ein Lehrtransfer ein, der bis zum 14.10.2026 von 
 den Lehrenden eigenständig erledigt wird, um die erlernten Inhalte in die e
 igene Lehrpraxis zu integrieren.</li></ol>\n\n<p>Sowohl die Vorbereitungsau
 fgabe als auch der Lehrtransfer wird durch die Trainerin per digitaler Pinn
 wand und per Mail begleitet.</p>\n\n<p>Kontakt:&nbsp;<strong> </strong><a h
 ref="mailto:antonella.ruggieri@htw-dresden.de">Dr. Antonella Ruggieri</a></
 p>\n\n\n\n
LOCATION:Online-Veranstaltung
DTSTAMP:20260413T133523
DTSTART:20260909T100000
DTEND:20260923T170000
END:VEVENT
END:VCALENDAR