BEGIN:VCALENDAR
VERSION:2.0
PRODID:https://github.com/derhansen/sf_event_mgt
BEGIN:VTIMEZONE
TZID:CET
BEGIN:DAYLIGHT
TZOFFSETFROM:+0100
TZOFFSETTO:+0200
TZNAME:Central European Summer Time
DTSTART:20160327T020000
RRULE:FREQ=YEARLY;BYDAY=-1SU;BYMONTH=3
END:DAYLIGHT
BEGIN:STANDARD
TZOFFSETFROM:+0200
TZOFFSETTO:+0100
TZNAME:Central European Time
DTSTART:20161030T030000
RRULE:FREQ=YEARLY;BYDAY=-1SU;BYMONTH=10
END:STANDARD
END:VTIMEZONE
METHOD:PUBLISH
BEGIN:VEVENT
UID:4069-449@www.htw-dresden.de
CLASS: PUBLIC
SUMMARY:LaTeX-Kurs
DESCRIPTION:<p>LaTeX ist ein Textsatzprogramm, welches im Gegensatz zu gäng
 igen Textverarbeitungen die Möglichkeit bietet eine typografische Qualität 
 wie im professionellen Buchdruck zu erreichen</p>\n\n<p>Damit eignet sich L
 aTeX insbesondere für umfangreiche Arbeiten wie Diplom- und Doktorarbeiten,
  die oftmals strengen typographischen Ansprüchen genügen müssen.</p>\n\n<p>
 Insbesondere im MINT-Bereich erleichtert LaTeX das Anfertigen von Schriftst
 ücken durch seine komfortablen Möglichkeiten der Formelsetzung gegenüber üb
 lichen Textverarbeitungssystemen.</p>\n\n<p>An einem der Termine erfährst d
 u die wichtigsten Grundlagen, um deine Abschlussarbeit mit LaTeX zu schreib
 en.</p>\n\n<p><a href="https://bildungsportal.sachsen.de/opal/auth/Reposito
 ryEntry/24369561603/CourseNode/1634093617216461011;jsessionid=24EB86C0D2978
 5030712156F7D780586.opalN10?0" title="LaTex-Kurs OPAL" target="_blank">zur 
 Anmeldung</a></p>
DTSTAMP:20260330T144526
DTSTART:20260625T153000
DTEND:20260625T184500
END:VEVENT
END:VCALENDAR