BEGIN:VCALENDAR
VERSION:2.0
PRODID:https://github.com/derhansen/sf_event_mgt
BEGIN:VTIMEZONE
TZID:CET
BEGIN:DAYLIGHT
TZOFFSETFROM:+0100
TZOFFSETTO:+0200
TZNAME:Central European Summer Time
DTSTART:20160327T020000
RRULE:FREQ=YEARLY;BYDAY=-1SU;BYMONTH=3
END:DAYLIGHT
BEGIN:STANDARD
TZOFFSETFROM:+0200
TZOFFSETTO:+0100
TZNAME:Central European Time
DTSTART:20161030T030000
RRULE:FREQ=YEARLY;BYDAY=-1SU;BYMONTH=10
END:STANDARD
END:VTIMEZONE
METHOD:PUBLISH
BEGIN:VEVENT
UID:3412-4130@www.htw-dresden.de
CLASS: PUBLIC
SUMMARY:Laufcoaching am Hauptcampus, Videoanalyse
DESCRIPTION:<p>Das Laufcoaching bietet Ihnen die Möglichkeit mit Hilfe eine
 r Videoaufnahme, Ihren individuellen Laufstil professionell analysieren zu 
 lassen. Dadurch werden technische Details sichtbar, die für sportliches Lau
 fen entscheidend sind – etwa Schrittfrequenz, Fußaufsatz, Hüftstabilität od
 er Armführung. Auf dieser Basis erhalten Sie gezielte Hinweise, um Ihre Lau
 ftechnik effizienter, ökonomischer und leistungsorientierter zu gestalten. 
 Die Analyse unterstützt Sie dabei, schneller, ausdauernder und zugleich ver
 letzungsärmer zu laufen.</p>\n\n<p>Treffpunkt zur Videoanalyse: <strong>HTW
  Bibliotheks-Vorplatz</strong></p>\n\n<p>Für den Auftakt, melden Sie sich b
 itte über den Veranstaltungskalender an.</p>\n\n<p>+ + &nbsp;+ Aufgrund der
  hohen Nachfrage, wurde ein Zusatztermin für den 20. April eingerichtet → s
 chreiben Sie sich gern <a href="https://www.htw-dresden.de/hochschule/aktue
 lles/veranstaltungen/detailseite/laufanalyse-zusatztermin">hier </a>ein + +
  +&nbsp;</p>\n\n<p>Ein anschließendes Lauftraining findet ab der Folgewoche
  jeweils <strong>15:30 - 16:30 Uhr</strong> wöchentlich <strong>montags </s
 trong>statt.<br />Treffpunkt: Torwirtschaft am Großen Garten<br />&nbsp;Das
  Lauftraining ist sowohl für Lauf-Anfänger als auch Fortgeschrittene geeign
 et. Ideal zur Vorbereitung auf die REWE Team Challenge. Die Gruppengröße is
 t nicht begrenzt.</p>\n\n<p>Folgetermine: 20.04. | 27.04. | 04.05. | 11.05.
  | 18.05. | Ausfall Pfingstmontag| 01.06. | 08.06. | <i>17.06. Rewe Teamcha
 llenge</i></p>\n\n<p>Ihnen passt es montags nicht oder Sie wollen nach den 
 geleiteten Treffen weiter machen? - dann verabreden Sie sich in der HTWD-La
 ufgruppe im <a href="https://bildungsportal.sachsen.de/opal/auth/Repository
 Entry/50695569419/CourseNode/1761536368121013008/Message/52875886605">gesun
 den Forum</a> der Hochschulgesundheit</p>\n\n<p>Das Lauftraining ist sowohl
  für Beschäftigte als auch Studierende der HTWD kostenlos.&nbsp;</p>
LOCATION:Platz vor der Bibliothek der HTW Dresden
DTSTAMP:20260415T085225
DTSTART:20260413T153000
DTEND:20260413T163000
END:VEVENT
END:VCALENDAR