BEGIN:VCALENDAR
VERSION:2.0
PRODID:https://github.com/derhansen/sf_event_mgt
BEGIN:VTIMEZONE
TZID:CET
BEGIN:DAYLIGHT
TZOFFSETFROM:+0100
TZOFFSETTO:+0200
TZNAME:Central European Summer Time
DTSTART:20160327T020000
RRULE:FREQ=YEARLY;BYDAY=-1SU;BYMONTH=3
END:DAYLIGHT
BEGIN:STANDARD
TZOFFSETFROM:+0200
TZOFFSETTO:+0100
TZNAME:Central European Time
DTSTART:20161030T030000
RRULE:FREQ=YEARLY;BYDAY=-1SU;BYMONTH=10
END:STANDARD
END:VTIMEZONE
METHOD:PUBLISH
BEGIN:VEVENT
UID:3960-4130@www.htw-dresden.de
CLASS: PUBLIC
SUMMARY:Laufcoaching am Hauptcampus
DESCRIPTION:<p>Nach der initialen Laufanalyse trifft sich die Laufgruppe nu
 n wöchentlich unter professioneller Anleitung mit dem Trainer. In der Grupp
 e profitieren Sie von gemeinsamen Übungen, gegenseitiger Motivation und der
  unmittelbaren Anleitung durch den Coach. So entsteht ein Trainingsumfeld, 
 in dem Technik, Tempo und Ausdauer Schritt für Schritt verbessert werden – 
 unterstützt durch professionelles Feedback und die Dynamik der Gruppe</p>\n
 \n<p>Das Lauftraining ist sowohl für Lauf-Anfänger als auch Fortgeschritten
 e geeignet. Ideal zur Vorbereitung auf die REWE Team Challenge. Die Gruppen
 größe ist nicht begrenzt.&nbsp;</p>\n\n\n\n<p>Das Lauftraining findet jewei
 ls <strong>15:30 - 16:30 Uhr</strong> wöchentlich <strong>montags</strong>,
  ab dem &nbsp;<strong>13. April </strong>statt.</p>\n\n<p>Folgetermine: 27.
 04. | 04.05. | 11.05. | 18.05. | Ausfall Pfingstmontag| 01.06. | 08.06. | <
 i>17.06. Rewe Teamchallenge</i></p>\n\n<p>Treffpunkt: <strong>Torwirtschaft
  am Großen Garten.</strong></p>\n\n<p>Ihnen passt der Termin nicht oder Sie
  wollen nach den geleiteten Treffen weiter machen? - dann verabreden Sie si
 ch in der HTWD-Laufgruppe im <a href="https://bildungsportal.sachsen.de/opa
 l/auth/RepositoryEntry/50695569419/CourseNode/1761536368121013008/Message/5
 2875886605">gesunden Forum</a> der Hochschulgesundheit</p>\n\n<p>Laufen und
  gemeinsam für das HTWD-Team Kilometer sammeln, vom 01. April - 09. Juni mi
 t <i>Run Germany</i> gegen andere Hochschulen im Hochschul-Cup antreten. Hi
 er <a href="https://rungermany.app/de/i/B46xhlHzpLsXllC3kJOhmWzv">anmelden 
 </a>und unser Team unterstützen.</p>\n\n<p>Das Lauftraining ist sowohl für 
 Beschäftigte als auch Studierende der HTWD kostenlos.&nbsp;</p>
DTSTAMP:20260417T155024
DTSTART:20260420T153000
DTEND:20260420T163000
END:VEVENT
END:VCALENDAR