BEGIN:VCALENDAR
VERSION:2.0
PRODID:https://github.com/derhansen/sf_event_mgt
BEGIN:VTIMEZONE
TZID:CET
BEGIN:DAYLIGHT
TZOFFSETFROM:+0100
TZOFFSETTO:+0200
TZNAME:Central European Summer Time
DTSTART:20160327T020000
RRULE:FREQ=YEARLY;BYDAY=-1SU;BYMONTH=3
END:DAYLIGHT
BEGIN:STANDARD
TZOFFSETFROM:+0200
TZOFFSETTO:+0100
TZNAME:Central European Time
DTSTART:20161030T030000
RRULE:FREQ=YEARLY;BYDAY=-1SU;BYMONTH=10
END:STANDARD
END:VTIMEZONE
METHOD:PUBLISH
BEGIN:VEVENT
UID:3959-4130@www.htw-dresden.de
CLASS: PUBLIC
SUMMARY:Laufcoaching in Pillnitz, Teil 2
DESCRIPTION:<p>Das Laufcoaching bietet Ihnen die Möglichkeit mit Hilfe eine
 r Videoaufnahme, Ihren individuellen Laufstil professionell analysieren zu 
 lassen. Dadurch werden technische Details sichtbar, die für sportliches Lau
 fen entscheidend sind – etwa Schrittfrequenz, Fußaufsatz, Hüftstabilität od
 er Armführung. Auf dieser Basis erhalten Sie gezielte Hinweise, um Ihre Lau
 ftechnik effizienter, ökonomischer und leistungsorientierter zu gestalten. 
 Die Analyse unterstützt Sie dabei, schneller, ausdauernder und zugleich ver
 letzungsärmer zu laufen.</p>\n\n<p>Das Lauftraining ist sowohl für Lauf-Anf
 änger als auch Fortgeschrittene geeignet - ideal zur Vorbereitung auf die R
 EWE Team Challenge.<br />&nbsp;</p>\n\n<p>Das professionelle angeleitete La
 ufcoaching findet <strong>15:30 - 16:30 Uhr</strong> auf dem Campus Pillnit
 z statt.</p>\n\n<p>Treffpunkt auf dem Parkplatz P2</p>\n\n<p>Die Gruppengrö
 ße ist nicht begrenzt. Damit der Coach Ihnen jedoch individuelle Hinweise z
 u Ihrem Laufstil geben kann, ist eine Anmeldung empfehlenswert.</p>\n\n<p>I
 hnen passt der Termin nicht oder Sie wollen nach den geleiteten Treffen wei
 ter machen? - dann verabreden Sie sich in der HTWD-Laufgruppe im <a href="h
 ttps://bildungsportal.sachsen.de/opal/auth/RepositoryEntry/50695569419/Cour
 seNode/1761536368121013008/Message/52875886605">gesunden Forum</a> der Hoch
 schulgesundheit</p>\n\n<p>Das Lauftraining ist sowohl für Beschäftigte als 
 auch Studierende der HTWD kostenlos.&nbsp;</p>
LOCATION:Campus Pillnitz
DTSTAMP:20260325T134446
DTSTART:20260521T153000
DTEND:20260521T163000
END:VEVENT
END:VCALENDAR