BEGIN:VCALENDAR
VERSION:2.0
PRODID:https://github.com/derhansen/sf_event_mgt
BEGIN:VTIMEZONE
TZID:CET
BEGIN:DAYLIGHT
TZOFFSETFROM:+0100
TZOFFSETTO:+0200
TZNAME:Central European Summer Time
DTSTART:20160327T020000
RRULE:FREQ=YEARLY;BYDAY=-1SU;BYMONTH=3
END:DAYLIGHT
BEGIN:STANDARD
TZOFFSETFROM:+0200
TZOFFSETTO:+0100
TZNAME:Central European Time
DTSTART:20161030T030000
RRULE:FREQ=YEARLY;BYDAY=-1SU;BYMONTH=10
END:STANDARD
END:VTIMEZONE
METHOD:PUBLISH
BEGIN:VEVENT
UID:3413-4130@www.htw-dresden.de
CLASS: PUBLIC
SUMMARY:Laufcoaching in Pillnitz, Teil 1
DESCRIPTION:<p>Das Laufcoaching bietet Ihnen die Möglichkeit mit Hilfe eine
 r Videoaufnahme, Ihren individuellen Laufstil professionell analysieren zu 
 lassen. Dadurch werden technische Details sichtbar, die für sportliches Lau
 fen entscheidend sind – etwa Schrittfrequenz, Fußaufsatz, Hüftstabilität od
 er Armführung. Auf dieser Basis erhalten Sie gezielte Hinweise, um Ihre Lau
 ftechnik effizienter, ökonomischer und leistungsorientierter zu gestalten. 
 Die Analyse unterstützt Sie dabei, schneller, ausdauernder und zugleich ver
 letzungsärmer zu laufen.</p>\n\n<p>Das Lauftraining ist sowohl für Lauf-Anf
 änger als auch Fortgeschrittene geeignet - ideal zur Vorbereitung auf die R
 EWE Team Challenge.<br />&nbsp;</p>\n\n<p>Das professionelle angeleitete La
 ufcoaching findet <strong>15:30 - 16:30 Uhr</strong> auf dem Campus Pillnit
 z statt.<br />Ein gechoachter Folgetermin findet am <strong>20.Mai</strong>
  statt.</p>\n\n<p>Treffpunkt auf dem Parkplatz P2</p>\n\n<p>Die Gruppengröß
 e ist nicht begrenzt. Damit der Coach Ihnen jedoch individuelle Hinweise zu
  Ihrem Laufstil geben kann, ist eine Anmeldung für den Auftakttermin empfeh
 lenswert.</p>\n\n<p>Ihnen passt der Termin nicht oder Sie wollen nach den g
 eleiteten Treffen weiter machen? - dann verabreden Sie sich in der HTWD-Lau
 fgruppe im <a href="https://bildungsportal.sachsen.de/opal/auth/RepositoryE
 ntry/50695569419/CourseNode/1761536368121013008/Message/52875886605">gesund
 en Forum</a> der Hochschulgesundheit</p>\n\n<p>Das Lauftraining ist sowohl 
 für Beschäftigte als auch Studierende der HTWD kostenlos.&nbsp;</p>\n\n\n\n
LOCATION:Campus Pillnitz
DTSTAMP:20260325T134437
DTSTART:20260422T153000
DTEND:20260422T163000
END:VEVENT
END:VCALENDAR