BEGIN:VCALENDAR
VERSION:2.0
PRODID:https://github.com/derhansen/sf_event_mgt
BEGIN:VTIMEZONE
TZID:CET
BEGIN:DAYLIGHT
TZOFFSETFROM:+0100
TZOFFSETTO:+0200
TZNAME:Central European Summer Time
DTSTART:20160327T020000
RRULE:FREQ=YEARLY;BYDAY=-1SU;BYMONTH=3
END:DAYLIGHT
BEGIN:STANDARD
TZOFFSETFROM:+0200
TZOFFSETTO:+0100
TZNAME:Central European Time
DTSTART:20161030T030000
RRULE:FREQ=YEARLY;BYDAY=-1SU;BYMONTH=10
END:STANDARD
END:VTIMEZONE
METHOD:PUBLISH
BEGIN:VEVENT
UID:4012-448@www.htw-dresden.de
CLASS: PUBLIC
SUMMARY:Lernen aktivieren - Mehr als nur Wissensvermittlung
DESCRIPTION:<p>Wie können Sie Ihre Studierenden aktiv in die Lehrveranstalt
 ung einbeziehen und ihr Lernen fördern?&nbsp;<br />In diesem Workshop erfah
 ren Sie, wie Sie Ihre Lehre anpassen können, um aktives Lernen zu unterstüt
 zen. Wir werden die Grundlagen der Aktivierung und ihre Bedeutung in der Wi
 ssensvermittlung im Rahmen des Constructive Alignement besprechen. Darüber 
 hinaus werden wir die Rolle von Motivation beleuchten und verschiedene akti
 vierende Lernmethoden entdecken. Durch praktische Übungen und Gruppenarbeit
 en können Sie die Methoden ausprobieren und diskutieren, welche Sie in Ihre
  eigene Lehre anwenden können.</p>
LOCATION:Hochschule für Technik und Wirtschaft Dresden (HTW Dresden) Zentralgebäude Friedrich-List-Platz 1 01069 Dresden
DTSTAMP:20260302T182528
DTSTART:20261202T150000
DTEND:20261202T181500
END:VEVENT
END:VCALENDAR