BEGIN:VCALENDAR
VERSION:2.0
PRODID:https://github.com/derhansen/sf_event_mgt
BEGIN:VTIMEZONE
TZID:CET
BEGIN:DAYLIGHT
TZOFFSETFROM:+0100
TZOFFSETTO:+0200
TZNAME:Central European Summer Time
DTSTART:20160327T020000
RRULE:FREQ=YEARLY;BYDAY=-1SU;BYMONTH=3
END:DAYLIGHT
BEGIN:STANDARD
TZOFFSETFROM:+0200
TZOFFSETTO:+0100
TZNAME:Central European Time
DTSTART:20161030T030000
RRULE:FREQ=YEARLY;BYDAY=-1SU;BYMONTH=10
END:STANDARD
END:VTIMEZONE
METHOD:PUBLISH
BEGIN:VEVENT
UID:3999-449@www.htw-dresden.de
CLASS: PUBLIC
SUMMARY:Make it Better! Die Lab X Prototyping Challenge für deinen Alltag
DESCRIPTION:<h3>Die Challenge</h3>\n\n<p>Vom <strong>27.07. bis 31.07.2026<
 /strong> hast du eine Woche Zeit, gemeinsam mit anderen Studierenden Ideen 
 zu entwickeln, echte Probleme anzugehen und funktionierende Prototypen zu b
 auen. Am <strong>Montag, </strong>den<strong> 03.08.2026</strong>, präsenti
 ert ihr eure Lösungen dann in kurzen Pitches vor einer Jury.</p>\n\n<p>Egal
 , aus welcher Fachrichtung du kommst – diese Challenge richtet sich an <str
 ong>alle Studierenden</strong>.<br />Du kannst teilnehmen, wenn du:</p>\n\n
 <ul><li>ein konkretes Problem mitbringst</li><li>bereits eine erste Lösungs
 idee hast</li><li>einfach Lust hast, mit anderen etwas zu entwickeln</li><l
 i>oder irgendwo dazwischen stehst</li></ul>\n\n<p>Du brauchst <strong>keine
  fertige Idee</strong>, <strong>kein Vorwissen</strong>, <strong>keinen Bus
 inessplan</strong>.<br />Alles, was du brauchst, ist Motivation, ein echtes
  Problem zu lösen – und die Bereitschaft, in einer Woche einen funktioniere
 nden MVP (Minimum Viable Product) zu bauen.</p>\n\n<p><strong>Wo? </strong>
 HTWD, 9. Etage Z-Gebäude Raum Z 915</p>\n\n<h3>Was erwartet dich?</h3>\n\n<
 ul><li>Interdisziplinäre Teams</li><li>Arbeiten mit Startup-Methoden (Desig
 n Thinking, Rapid Prototyping, Testing)</li><li>Mentoring und Feedback</li>
 <li>Raum zum Ausprobieren statt nur darüber zu reden</li><li>Kontakte zu an
 deren engagierten Studierenden</li></ul>\n\n<h3>Was gibt es zu gewinnen?</h
 3>\n\n<p>Eine Jury prämiert die überzeugendsten Lösungen:</p>\n\n<p><strong
 >1. Platz:</strong> 7.500 € Förderung durch das Lab X für Prototypenbau und
  Beratungsleistungen<br /><strong>2. und 3. Platz:</strong> qualifizieren s
 ich zusätzliche für die Chance auf eine Förderung</p>\n\n<p>Diese Challenge
  ist deine Gelegenheit, Ideen nicht nur zu diskutieren, sondern umzusetzen.
 <br /><strong>Raus aus der Theorie – rein ins Machen.</strong></p>\n\n<p>Me
 lde dich an und gestalte mit uns Lösungen, die das Leben und Lernen wirklic
 h besser machen.</p>\n\n<p>Weitere Fragen? Schreibt uns gerne: <a href="mai
 lto:labx@htw-dresden.de">Lab X</a></p>\n\n\n\n
LOCATION:Hochschule für Technik und Wirtschaft Dresden (HTW Dresden) Zentralgebäude Friedrich-List-Platz 1 01069 Dresden
DTSTAMP:20260226T104211
DTSTART:20260727T090000
DTEND:20260731T153000
END:VEVENT
END:VCALENDAR