BEGIN:VCALENDAR
VERSION:2.0
PRODID:https://github.com/derhansen/sf_event_mgt
BEGIN:VTIMEZONE
TZID:CET
BEGIN:DAYLIGHT
TZOFFSETFROM:+0100
TZOFFSETTO:+0200
TZNAME:Central European Summer Time
DTSTART:20160327T020000
RRULE:FREQ=YEARLY;BYDAY=-1SU;BYMONTH=3
END:DAYLIGHT
BEGIN:STANDARD
TZOFFSETFROM:+0200
TZOFFSETTO:+0100
TZNAME:Central European Time
DTSTART:20161030T030000
RRULE:FREQ=YEARLY;BYDAY=-1SU;BYMONTH=10
END:STANDARD
END:VTIMEZONE
METHOD:PUBLISH
BEGIN:VEVENT
UID:3759-448@www.htw-dresden.de
CLASS: PUBLIC
SUMMARY:Mündliche Prüfungen kompetenzorientiert gestalten und bewerten
DESCRIPTION:<p>Dieser Online-Workshop gibt Ihnen praxisbezogene Anregungen 
 und Hilfestellungen für die Vorbereitung, Durchführung und Bewertung mündli
 cher Prüfungen. Wesentlich ist hierfür die präzise Formulierung der intendi
 erten Learning Outcomes. Darauf aufbauend werden verschiedene Fragetypen fü
 r mündliche Prüfungen entwickelt und entsprechende Prüfungsfragen eigenstän
 dig formuliert. Dabei wird anhand von Beispielen aus der Lehrpraxis des Doz
 enten diskutiert, wie auch für komplexe Learning Outcomes geeignete Fragen 
 konzipiert werden können.</p>\n\n<p>21.09.2026 | 09:00 – 12:30 Uhr</p>\n\n<
 p>24.09.2026 | 09:00 – 12:30 Uhr</p>\n\n<p>Kontakt: <a href="mailto:antonel
 la.ruggieri@htw-dresden.de"><u>Dr. Antonella Ruggieri</u></a></p>
LOCATION:Online-Veranstaltung
DTSTAMP:20260413T133555
DTSTART:20260921T090000
DTEND:20260924T123000
END:VEVENT
END:VCALENDAR