BEGIN:VCALENDAR
VERSION:2.0
PRODID:https://github.com/derhansen/sf_event_mgt
BEGIN:VTIMEZONE
TZID:CET
BEGIN:DAYLIGHT
TZOFFSETFROM:+0100
TZOFFSETTO:+0200
TZNAME:Central European Summer Time
DTSTART:20160327T020000
RRULE:FREQ=YEARLY;BYDAY=-1SU;BYMONTH=3
END:DAYLIGHT
BEGIN:STANDARD
TZOFFSETFROM:+0200
TZOFFSETTO:+0100
TZNAME:Central European Time
DTSTART:20161030T030000
RRULE:FREQ=YEARLY;BYDAY=-1SU;BYMONTH=10
END:STANDARD
END:VTIMEZONE
METHOD:PUBLISH
BEGIN:VEVENT
UID:3981-444@www.htw-dresden.de
CLASS: PUBLIC
SUMMARY:Nachhaltigkeitswoche DO IT NOW
DESCRIPTION:<p>Die HTW Dresden veranstaltet mit der TU Dresden die Nachhalt
 igkeitswoche DO IT NOW und lädt alle Studierenden und Mitarbeitenden zur ak
 tiven Mitgestaltung ein.</p>\n\n<p>Ob Workshops, (Open-Air-)Vorlesungen übe
 r Campusradtouren, Ausstellungen oder Mitmachaktionen. Erleben Sie Themen a
 us allen Nachhaltigkeitsdimensionen und allen Fachrichtungen.</p>\n\n<p>Die
  Nachhaltigkeitswoche versteht sich als offenes Beteiligungsformat und rich
 tet sich auch an die Stadtgesellschaft und interessierte Bürger*innen. Ob k
 leines Projekt oder größere Aktion: Jede Idee zählt.</p>\n\n<p>Jetzt mitmac
 hen und Nachhaltigkeit an der HTW Dresden sichtbar machen!<br />Für Fragen 
 und weitere Informationen können Sie sich jederzeit an <a href="mailto:klim
 aschutz@htw-dresden.de">klimaschutz@htw-dresden.de</a> wenden.<br /><br />I
 hre Ansprechpartner sind: Florian Reß, Prof. Christoph Scope und Josefina P
 eisl</p>
DTSTAMP:20260209T143702
DTSTART:20260615T090000
DTEND:20260619T163000
END:VEVENT
END:VCALENDAR