BEGIN:VCALENDAR
VERSION:2.0
PRODID:https://github.com/derhansen/sf_event_mgt
BEGIN:VTIMEZONE
TZID:CET
BEGIN:DAYLIGHT
TZOFFSETFROM:+0100
TZOFFSETTO:+0200
TZNAME:Central European Summer Time
DTSTART:20160327T020000
RRULE:FREQ=YEARLY;BYDAY=-1SU;BYMONTH=3
END:DAYLIGHT
BEGIN:STANDARD
TZOFFSETFROM:+0200
TZOFFSETTO:+0100
TZNAME:Central European Time
DTSTART:20161030T030000
RRULE:FREQ=YEARLY;BYDAY=-1SU;BYMONTH=10
END:STANDARD
END:VTIMEZONE
METHOD:PUBLISH
BEGIN:VEVENT
UID:2729-7453@www.htw-dresden.de
CLASS: PUBLIC
SUMMARY:Nie wieder sprachlos – Schlagfertigkeitstraining für Studentinnen
DESCRIPTION:<p><strong>Online-Workshop für Studentinnen*</strong></p>\n\n<p
 >Wer kennt das nicht? Da ist sie nun endlich die passende Antwort für einen
  dummen Kommentar, leider ist sie Dir eine Stunde zu spät eingefallen?<br /
 ><br />In vielen Situationen wünschen wir uns schlagfertig reagieren zu kön
 nen, doch können es einfach nicht, weil uns in der Sekunde nichts passendes
  einfällt. Doch jeder kann schlagfertig sein, es gibt viele Techniken die a
 ktiv angewandt werden können, um den passenden Kommentar zu finden, egal ob
  lustig, frech oder professionell. Schlagfertige Antworten können viel bewi
 rken, sie nehmen dem Gegenüber Wind aus den Segeln, Du selbst wirkst dabei 
 souverän, selbstsicher und überlegen. Auch in Deinem Studium und Deiner Kar
 riere kann Schlagfertigkeit viel bewirken, denn so zeigst Du Entschlossenhe
 it und dass Du kreativ mit Sprache umgehen kannst. So kannst Du auch in kon
 troversen Diskussionen Deine Meinung vertreten, ohne aggressiv zu wirken un
 d Dich in einer Gruppe behaupten.<br />&nbsp;</p>\n\n<p><strong>Workshopinh
 alte:</strong></p>\n\n<ul><li>Steigerung des Selbstbewusstseins mithilfe st
 arker Reaktionen</li><li>Schlagfertigkeitstechniken</li><li>Schlagfertige A
 ntworten auf kritische Fragen</li><li>Reaktionen auf unangenehme Kommentare
 </li></ul>\n\n<p><strong>Link &amp; Anmeldung</strong></p>\n\n<p>Die Verans
 taltung findet online via Microsoft Teams statt. Den Zugangslink senden wir
  Ihnen mindestens 24 Stunden vor Veranstaltungsbeginn zu. Eine Anmeldung zu
 r Veranstaltung ist nötig.</p>\n\n<p>*nur für Frauen</p>\n\n<p><i>Dieser Wo
 rkshop ist kostenlos und wird über das </i><a href="t3://page?uid=7139"><i>
 Professorinnenprogramm III</i></a><i> der HTW Dresden finanziert.</i></p>
LOCATION:Online
DTSTAMP:20260420T131226
DTSTART:20260617T153000
DTEND:20260617T183000
END:VEVENT
END:VCALENDAR