BEGIN:VCALENDAR
VERSION:2.0
PRODID:https://github.com/derhansen/sf_event_mgt
BEGIN:VTIMEZONE
TZID:CET
BEGIN:DAYLIGHT
TZOFFSETFROM:+0100
TZOFFSETTO:+0200
TZNAME:Central European Summer Time
DTSTART:20160327T020000
RRULE:FREQ=YEARLY;BYDAY=-1SU;BYMONTH=3
END:DAYLIGHT
BEGIN:STANDARD
TZOFFSETFROM:+0200
TZOFFSETTO:+0100
TZNAME:Central European Time
DTSTART:20161030T030000
RRULE:FREQ=YEARLY;BYDAY=-1SU;BYMONTH=10
END:STANDARD
END:VTIMEZONE
METHOD:PUBLISH
BEGIN:VEVENT
UID:4072-446@www.htw-dresden.de
CLASS: PUBLIC
SUMMARY:OT Sicherheit im Kraftwerk: Grundlagen, Risiken und Praxisbeispiele aus der Leittechnik
DESCRIPTION:<p><strong>218. Wissenschaftliches Seminar</strong></p>\n\n<p>R
 eferent: Argyrios Chatzopoulos, M.Sc. (Siemens Energy)</p>\n\n<p>Steigende 
 Cyberrisiken, höhere regulatorische Anforderungen und komplexere OT‑Archite
 kturen stellen Betreiber kritischer Energieinfrastrukturen zunehmend vor He
 rausforderungen. Zugleich erschweren Fachkräftemangel und fehlende Kompeten
 zen einen sicheren und effizienten Betrieb.</p>\n\n<p>Eine Einführung in di
 e OT‑Welt mit Fokus auf Schutzziele, Cyber Kill Chain und Incident Response
  bildet den Rahmen, um die besonderen Anforderungen an die Absicherung von 
 Kraftwerken und deren Leitsystemen als zentrales ‚Herzstück‘ des Betriebs z
 u beleuchten. Der Vortrag zeigt anhand aktueller Ansätze, wie heutige Siche
 rheitskonzepte umgesetzt werden – und diskutiert die Cyberresilienz in Deut
 schland.&nbsp;</p>\n\n<p><a href="t3://file?uid=56730" target="_blank">weit
 ere Informationen<sup>PDF</sup></a></p>
LOCATION:Z 407
DTSTAMP:20260420T124948
DTSTART:20260512T153000
DTEND:20260512T170000
END:VEVENT
END:VCALENDAR