BEGIN:VCALENDAR
VERSION:2.0
PRODID:https://github.com/derhansen/sf_event_mgt
BEGIN:VTIMEZONE
TZID:CET
BEGIN:DAYLIGHT
TZOFFSETFROM:+0100
TZOFFSETTO:+0200
TZNAME:Central European Summer Time
DTSTART:20160327T020000
RRULE:FREQ=YEARLY;BYDAY=-1SU;BYMONTH=3
END:DAYLIGHT
BEGIN:STANDARD
TZOFFSETFROM:+0200
TZOFFSETTO:+0100
TZNAME:Central European Time
DTSTART:20161030T030000
RRULE:FREQ=YEARLY;BYDAY=-1SU;BYMONTH=10
END:STANDARD
END:VTIMEZONE
METHOD:PUBLISH
BEGIN:VEVENT
UID:4022-8738@www.htw-dresden.de
CLASS: PUBLIC
SUMMARY:Personalratswahl und Wahl der Jugend- und Auszubildendenvertretung
DESCRIPTION:<p>Alle Informationen finden Sie auf der Seite zu den <a href="
 https://www.htw-dresden.de/intern/uebergreifende-themen/selbstverwaltung/wa
 hlen">Wahlen an der HTWD</a> oder als Aushang im Schaukasten des Rektorates
 .</p>\n\n<p><u>Wahllokal:</u></p>\n\n<ul><li>PAB im Zentralgebäude</li></ul
 >
DTSTAMP:20260304T131616
DTSTART:20260511T090000
DTEND:20260512T150000
END:VEVENT
END:VCALENDAR