BEGIN:VCALENDAR
VERSION:2.0
PRODID:https://github.com/derhansen/sf_event_mgt
BEGIN:VTIMEZONE
TZID:CET
BEGIN:DAYLIGHT
TZOFFSETFROM:+0100
TZOFFSETTO:+0200
TZNAME:Central European Summer Time
DTSTART:20160327T020000
RRULE:FREQ=YEARLY;BYDAY=-1SU;BYMONTH=3
END:DAYLIGHT
BEGIN:STANDARD
TZOFFSETFROM:+0200
TZOFFSETTO:+0100
TZNAME:Central European Time
DTSTART:20161030T030000
RRULE:FREQ=YEARLY;BYDAY=-1SU;BYMONTH=10
END:STANDARD
END:VTIMEZONE
METHOD:PUBLISH
BEGIN:VEVENT
UID:3953-456@www.htw-dresden.de
CLASS: PUBLIC
SUMMARY:Personalversammlung
DESCRIPTION:<p>Folgende Tagesordnung ist derzeit geplant:</p>\n\n<ol><li>Be
 grüßung &nbsp;</li><li>Der Personalrat der HTW Dresden</li><li>Tätigkeitsbe
 richt des Personalrates</li><li>Informationen der Hochschulleitung</li><li>
 Informationen des Hauptpersonalrates beim SMWK</li><li>Informationen der Ge
 werkschaften (GEW, ver.di)</li><li>Fragen der Beschäftigten an Personalrat 
 und Hochschulleitung</li></ol>\n\n\n\n<p>Der Personalrat und die Hochschull
 eitung stehen natürlich für Fragen zur Verfügung. Gern können Sie uns Ihre 
 <strong>Fragen</strong> schon im <strong>Vorfeld</strong> übermitteln, dann
  dürfen sie gut vorbereitete Antworten erwarten.</p>
LOCATION:Z 211
DTSTAMP:20260120T180004
DTSTART:20260202T090000
DTEND:20260202T110000
END:VEVENT
END:VCALENDAR