BEGIN:VCALENDAR
VERSION:2.0
PRODID:https://github.com/derhansen/sf_event_mgt
BEGIN:VTIMEZONE
TZID:CET
BEGIN:DAYLIGHT
TZOFFSETFROM:+0100
TZOFFSETTO:+0200
TZNAME:Central European Summer Time
DTSTART:20160327T020000
RRULE:FREQ=YEARLY;BYDAY=-1SU;BYMONTH=3
END:DAYLIGHT
BEGIN:STANDARD
TZOFFSETFROM:+0200
TZOFFSETTO:+0100
TZNAME:Central European Time
DTSTART:20161030T030000
RRULE:FREQ=YEARLY;BYDAY=-1SU;BYMONTH=10
END:STANDARD
END:VTIMEZONE
METHOD:PUBLISH
BEGIN:VEVENT
UID:2792-442@www.htw-dresden.de
CLASS: PUBLIC
SUMMARY:Prepare your job fair visit - create your Elevator Pitch
DESCRIPTION:<p>Especially interesting if you intend to visit the fair Branc
 hentreff Micro- and Optoelectronics, January 22:&nbsp;<a href="https://tu-d
 resden.de/studium/im-studium/career-service/arbeitgeberkontakte/branchentre
 ff?set_language=en">https://tu-dresden.de/studium/im-studium/career-service
 /arbeitgeberkontakte/branchentreff?set_language=en</a>.&nbsp;</p>\n\n<p><br
  />In this interactive online workshop you will learn what to think of whil
 e preparing for a job fair or career event, and receive practical tips how 
 to introduce and represent yourself in a short and convincing way. The work
 shop will enable you to pass successfully the first minutes of a job interv
 iew by creating an Elevator Pitch.</p>\n\n<p><strong>Speaker: </strong>Reza
  Kazem Pour</p>\n\n<p><strong>14.01.2025 I 17:00-18:30 I Online&nbsp;</stro
 ng></p>\n\n<p><strong>Please register via: </strong><a href="mailto:birgit.
 brand@tu-dresden.de"><strong>birgit.brand@tu-dresden.de</strong></a></p>\n\
 n\n\n
LOCATION:Online
DTSTAMP:20260105T124210
DTSTART:20260114T170000
DTEND:20260114T183000
END:VEVENT
END:VCALENDAR