BEGIN:VCALENDAR
VERSION:2.0
PRODID:https://github.com/derhansen/sf_event_mgt
BEGIN:VTIMEZONE
TZID:CET
BEGIN:DAYLIGHT
TZOFFSETFROM:+0100
TZOFFSETTO:+0200
TZNAME:Central European Summer Time
DTSTART:20160327T020000
RRULE:FREQ=YEARLY;BYDAY=-1SU;BYMONTH=3
END:DAYLIGHT
BEGIN:STANDARD
TZOFFSETFROM:+0200
TZOFFSETTO:+0100
TZNAME:Central European Time
DTSTART:20161030T030000
RRULE:FREQ=YEARLY;BYDAY=-1SU;BYMONTH=10
END:STANDARD
END:VTIMEZONE
METHOD:PUBLISH
BEGIN:VEVENT
UID:3674-449@www.htw-dresden.de
CLASS: PUBLIC
SUMMARY:PreStart Workshop - Vorbereitung für Lab X KickStart Bewerbung
DESCRIPTION:<p>Du möchtest dich mit deiner Idee im <a href="t3://page?uid=6
 653">Lab X</a> für eine Förderung als KickStart-Team bewerben?<br />Dann so
 lltest du dir diesen Workshop nicht entgehen lassen!</p>\n\n<p>Wir besprech
 en mit euch gemeinsam eure Ideen und helfen euch ein schlüssiges Konzept zu
  erarbeiten.<br />Dabei gehen wir auf die Bewerbungsmodalitäten ein, klären
  die Budgetkalkulation und entwickeln euren individuellen Zeitplan.<br />Da
 rüber hinaus ist natürlich auch noch Platz für Fragen, Austausch und zum Ke
 nnenlernen der Werkstatträume.&nbsp;</p>\n\n<p>Weitere Fragen? Schreibt uns
  gerne <a href="mailto:labx@htw-dresden.de">Lab X</a></p>\n\n<p>Wo? Z901b</
 p>
LOCATION:HTW Dresden Friedrich-List-Platz 1, 01069 Dresden
DTSTAMP:20260413T151109
DTSTART:20260417T094500
DTEND:20260417T111500
END:VEVENT
END:VCALENDAR