BEGIN:VCALENDAR
VERSION:2.0
PRODID:https://github.com/derhansen/sf_event_mgt
BEGIN:VTIMEZONE
TZID:CET
BEGIN:DAYLIGHT
TZOFFSETFROM:+0100
TZOFFSETTO:+0200
TZNAME:Central European Summer Time
DTSTART:20160327T020000
RRULE:FREQ=YEARLY;BYDAY=-1SU;BYMONTH=3
END:DAYLIGHT
BEGIN:STANDARD
TZOFFSETFROM:+0200
TZOFFSETTO:+0100
TZNAME:Central European Time
DTSTART:20161030T030000
RRULE:FREQ=YEARLY;BYDAY=-1SU;BYMONTH=10
END:STANDARD
END:VTIMEZONE
METHOD:PUBLISH
BEGIN:VEVENT
UID:774-442@www.htw-dresden.de
CLASS: PUBLIC
SUMMARY:Projektmanagement: Eine Einführung und agile Methoden
DESCRIPTION:<p>Womit solltest Du Dich unbedingt beschäftigen, wenn Du ein P
 rojekt professionell planen möchtest? Warum können Dir dabei konkrete Zielf
 ormulierungen, ein Projektstrukturplan oder eine Stakeholdertabelle helfen?
  Und in welchen Fällen sind eigentlich agile Methoden wie Scrum oder Design
  Thinking die beste Wahl für Dein Projektmanagement? Kurze Impulse unserer 
 Expertinnen Eva Ritzenhoff und Magdalena Strauch geben Dir dazu einen erste
 n Überblick.</p>\n\n<p>Anmeldung zum Webinar direkt hier -&gt; <a href="htt
 ps://forms.office.com/Pages/ResponsePage.aspx?id=J0G6dEYo3E-cUuhDYFO9EFr5LK
 95RzFDlNYCEHoSZVlUQzkyMUFHN0kxTkMwRzQ5QkIxSFNDVUdLUy4u" target="_blank">LIN
 K</a></p>\n\n<p>Durch die Kooperation mit Teach First Deutschland kann das 
 Webinar für HTW-Studierende kostenfrei angeboten werden.</p>
LOCATION:Webinar
DTSTAMP:20200414T144914
DTSTART:20200609T160000
DTEND:20200609T173000
END:VEVENT
END:VCALENDAR