BEGIN:VCALENDAR
VERSION:2.0
PRODID:https://github.com/derhansen/sf_event_mgt
BEGIN:VTIMEZONE
TZID:CET
BEGIN:DAYLIGHT
TZOFFSETFROM:+0100
TZOFFSETTO:+0200
TZNAME:Central European Summer Time
DTSTART:20160327T020000
RRULE:FREQ=YEARLY;BYDAY=-1SU;BYMONTH=3
END:DAYLIGHT
BEGIN:STANDARD
TZOFFSETFROM:+0200
TZOFFSETTO:+0100
TZNAME:Central European Time
DTSTART:20161030T030000
RRULE:FREQ=YEARLY;BYDAY=-1SU;BYMONTH=10
END:STANDARD
END:VTIMEZONE
METHOD:PUBLISH
BEGIN:VEVENT
UID:3898-3003@www.htw-dresden.de
CLASS: PUBLIC
SUMMARY:Schule und KI - wie passt das zusammen?
DESCRIPTION:<p>Diese Veranstaltung ist Teil der Reihe: MINT vernetzt - Aust
 ausch zwischen Schule, Hochschule und Gesellschaft und richtet sich an Lehr
 kräfte der MINT-Fächer.</p>\n\n<p>René Richter berichtet in seinem Beitrag 
 über technische Möglichkeiten, didaktische Ansätze und konkrete Erfahrungen
  aus Sicht einer Lehrkraft, als Fachberater für Informatik und als Mitbetre
 iber der Plattform <a href="http://schulki.de/" target="_blank" rel="norefe
 rrer"><u>schulKI.de</u></a>.</p>\n\n<p>Raum: folgt</p>\n\n<p>Auf Wunsch kan
 n eine Teilnahmebestätigung ausgestellt werden.<br /><br />&nbsp;</p>
LOCATION:Hochschule für Technik und Wirtschaft Dresden (HTW Dresden) Zentralgebäude Friedrich-List-Platz 1 01069 Dresden
DTSTAMP:20251205T112257
DTSTART:20260827T150000
DTEND:20260827T163000
END:VEVENT
END:VCALENDAR