BEGIN:VCALENDAR
VERSION:2.0
PRODID:https://github.com/derhansen/sf_event_mgt
BEGIN:VTIMEZONE
TZID:CET
BEGIN:DAYLIGHT
TZOFFSETFROM:+0100
TZOFFSETTO:+0200
TZNAME:Central European Summer Time
DTSTART:20160327T020000
RRULE:FREQ=YEARLY;BYDAY=-1SU;BYMONTH=3
END:DAYLIGHT
BEGIN:STANDARD
TZOFFSETFROM:+0200
TZOFFSETTO:+0100
TZNAME:Central European Time
DTSTART:20161030T030000
RRULE:FREQ=YEARLY;BYDAY=-1SU;BYMONTH=10
END:STANDARD
END:VTIMEZONE
METHOD:PUBLISH
BEGIN:VEVENT
UID:578-444@www.htw-dresden.de
CLASS: PUBLIC
SUMMARY:Schutzrechte an der HTW - von der Erfindung zur Verwertung
DESCRIPTION:<p>Sie sind Professor/-in oder Beschäftige/r der HTW Dresden? I
 n Förder- und Auftragsprojekten oder aus freier Forschung entwickeln Sie Lö
 sungen für (technologische) Fragestellungen aus Wirtschaft und Gesellschaft
 ? Sei es ein neuartiges Verfahren, Vorrichtungen, Apparaturen oder Ähnliche
 s - sich die Ergebnisse dieser Forschungstätigkeit schützen zu lassen, ist 
 absolut sinnvoll. Technische Schutzrechte wie bspw. das Patent können</p>\n
 \n<ul> 	<li>eine Ausgangsbasis für Projektanträge und Folgeprojekte sein,</
 li> 	<li>die Reputation der Hochschule und der beteiligten ErfinderINNen st
 eigern</li> 	<li>Industriepartnern einen technologischen Vorsprung verschaf
 fen</li> 	<li>uvm.</li> </ul>\n\n<p>Doch wie erkenne ich, ob meine entwicke
 lte Lösung schutzrechtsfähig ist? Wie läuft die Anmeldung eines Patentes ab
 ? Was ist, wenn in meinem Projekt ein Industriepartner oder ein anderes For
 schungsinstitut beteiligt ist? Wie gehe ich mit den Patentanwälten um? Wer 
 kümmert sich um die rechtlichen Formalien?</p>\n\n<p>All diese Fragen beant
 wortet diese hausinterne Veranstaltung, durchgeführt vom Prorektorat Forsch
 ung &amp; Entwicklung, Technologietransfer. Lernen Sie den Prozess von der 
 Erfindungsmeldung über die Patentanmeldung bis zur Verwertung kennen.</p>\n
 \n<p>Es sind keine Vorkenntnisse im Patentwesen nötig. Gern dürfen Sie aber
  konkrete Fragestellungen einbringen.</p>
LOCATION:S 219
DTSTAMP:20200304T083353
DTSTART:20200312T090000
DTEND:20200312T110000
END:VEVENT
END:VCALENDAR