BEGIN:VCALENDAR
VERSION:2.0
PRODID:https://github.com/derhansen/sf_event_mgt
BEGIN:VTIMEZONE
TZID:CET
BEGIN:DAYLIGHT
TZOFFSETFROM:+0100
TZOFFSETTO:+0200
TZNAME:Central European Summer Time
DTSTART:20160327T020000
RRULE:FREQ=YEARLY;BYDAY=-1SU;BYMONTH=3
END:DAYLIGHT
BEGIN:STANDARD
TZOFFSETFROM:+0200
TZOFFSETTO:+0100
TZNAME:Central European Time
DTSTART:20161030T030000
RRULE:FREQ=YEARLY;BYDAY=-1SU;BYMONTH=10
END:STANDARD
END:VTIMEZONE
METHOD:PUBLISH
BEGIN:VEVENT
UID:3804-7453@www.htw-dresden.de
CLASS: PUBLIC
SUMMARY:Selbstwirksam als FLINTA in Tech!
DESCRIPTION:<p>Mathe, Info, Technik – voll dein Ding? &lt; 20% Frauenanteil
  im Studiengang – nicht so dein Ding? Dann komm zum Workshop für Studentinn
 en in Tech!</p>\n\n<p>Wir möchten uns über unsere Ziele austauschen, gemein
 sam unserer Stärken bewusst werden und neue Perspektiven entdecken, aber au
 ch Platz für das ehrliche Sprechen über Zweifel lassen – vom Problemspace i
 n den Solutionspace.</p>\n\n<p>Lust auf stärkende Übungen, handfeste Werkze
 uge für dich und 120 Minuten Zeit? Dann melde dich gerne an. Wir freuen uns
  sehr auf die Impulse, die wir gemeinsam setzen können!</p>\n\n<p>Der Works
 hop ist kostenfrei und richtet sich an Studentinnen* aus Mathematik, Inform
 atik &amp; co. Auch Studentinnen* anderer Hochschulen können teilnehmen.</p
 >\n\n<p><strong>Sprache:</strong> Deutsch</p>\n\n<p><strong>Kontakt:</stron
 g><br />Carolin Schaufel<br />Professorinnenprogramm/familiengerechte Hochs
 chule<br /><a href="mailto:carolin.schaufel@htw-dresden.de">carolin.schaufe
 l@htw-dresden.de</a></p>\n\n<p><i>*Frauen, Lesben, Inter-, Nicht-binäre, Tr
 ans- und Agender-Personen</i></p>\n\n<p><i>Powered by Sandstorm</i></p>
LOCATION:HTW Dresden Friedrich-List Platz 1, Z-Gebäude, Raum Z336
DTSTAMP:20260423T104319
DTSTART:20260505T153000
DTEND:20260505T183000
END:VEVENT
END:VCALENDAR