BEGIN:VCALENDAR
VERSION:2.0
PRODID:https://github.com/derhansen/sf_event_mgt
BEGIN:VTIMEZONE
TZID:CET
BEGIN:DAYLIGHT
TZOFFSETFROM:+0100
TZOFFSETTO:+0200
TZNAME:Central European Summer Time
DTSTART:20160327T020000
RRULE:FREQ=YEARLY;BYDAY=-1SU;BYMONTH=3
END:DAYLIGHT
BEGIN:STANDARD
TZOFFSETFROM:+0200
TZOFFSETTO:+0100
TZNAME:Central European Time
DTSTART:20161030T030000
RRULE:FREQ=YEARLY;BYDAY=-1SU;BYMONTH=10
END:STANDARD
END:VTIMEZONE
METHOD:PUBLISH
BEGIN:VEVENT
UID:3915-442@www.htw-dresden.de
CLASS: PUBLIC
SUMMARY:Smart Money Management – Financial knowledge for students (engl.)
DESCRIPTION:<p>Studying, part-time jobs, your first apartment – dealing wit
 h money becomes an important topic sooner or later. In this workshop, you’l
 l gain the essential know-how to manage your finances confidently and set t
 he right course early on.<br />Together, we’ll build your “financial house”
  — with a solid foundation, clear goals, and a future-oriented perspective.
  You will learn, among other things:<br />• How to get an overview of your 
 finances<br />• The opportunities (and risks) involved in investing<br />• 
 What you really need to know about stocks, ETFs, and more<br />• How the Ge
 rman pension system works — and what it means for you<br />• Why traditiona
 l life insurance policies are often not the best choice<br />All this witho
 ut complicated jargon, but with plenty of practical tips — perfect for anyo
 ne who wants to finally understand their finances and take control of them.
 </p>\n\n<p><strong>Online I BigBlueButton</strong></p>\n\n<p><strong>Regist
 ration: </strong><a href="https://tu-dresden.de/studium/im-studium/career-s
 ervice/termine/for-international-students-smart-money-management-financial-
 knowledge-for-students-engl?set_language=en" target="_blank"><strong>HERE</
 strong></a><strong> </strong>or mailto: <a href="mailto:Birgit.Brandt@tu-dr
 esden.de">Birgit.Brandt@tu-dresden.de</a></p>
LOCATION:Online
DTSTAMP:20260326T145436
DTSTART:20260526T150000
DTEND:20260526T180000
END:VEVENT
END:VCALENDAR