BEGIN:VCALENDAR
VERSION:2.0
PRODID:https://github.com/derhansen/sf_event_mgt
BEGIN:VTIMEZONE
TZID:CET
BEGIN:DAYLIGHT
TZOFFSETFROM:+0100
TZOFFSETTO:+0200
TZNAME:Central European Summer Time
DTSTART:20160327T020000
RRULE:FREQ=YEARLY;BYDAY=-1SU;BYMONTH=3
END:DAYLIGHT
BEGIN:STANDARD
TZOFFSETFROM:+0200
TZOFFSETTO:+0100
TZNAME:Central European Time
DTSTART:20161030T030000
RRULE:FREQ=YEARLY;BYDAY=-1SU;BYMONTH=10
END:STANDARD
END:VTIMEZONE
METHOD:PUBLISH
BEGIN:VEVENT
UID:3906-448@www.htw-dresden.de
CLASS: PUBLIC
SUMMARY:Student’s Feedback Matters: Qualitative (Selbst-)Evaluationen von Lehrveranstaltungen planen und durchführen
DESCRIPTION:<p>Als Lehrperson geben Sie häufig Rückmeldungen zu studentisch
 en Leistungen und Lernfortschritten. Umgekehrt wünschen Sie sich aber auch 
 selbst Auskunft zu Ihrer Lehrtätigkeit. Nur so können Sie eigene Lernangebo
 te weiterentwickeln und die Lehrqualität verbessern. Dafür bieten sich vers
 chiedene Evaluationsverfahren an, die den Erfolg und die Qualität Ihrer Leh
 rveranstaltung(en) durch wertvolles studentisches Feedback erfassen.<br /><
 br />Im Rahmen des Workshops beschäftigen wir uns zuerst mit wichtigen Qual
 itätskriterien guter Hochschullehre, um dann die zentrale Frage zu adressie
 ren, welche Aspekte Ihrer Lehrveranstaltungen wann, wie, warum und durch we
 n evaluiert werden sollten.<br /><br />Im Sinne der Evaluation als gelebte 
 Praxis erarbeiten wir uns gemeinsam qualitative Selbstevaluationsmethoden, 
 die sie ergänzend zur klassischen Lehrveranstaltungsevaluation einsetzen kö
 nnen. Sie können diese Methoden selbstgesteuert in Ihren Veranstaltungen ve
 rwenden, um schnell und effektiv studentisches Feedback zu Lernfortschritte
 n oder Lehrgestaltung zu erhalten. Die Auswahl der passenden Selbstevaluati
 onsmethode ist dabei abhängig von Ihrem individuellen Evaluationsziel. Dami
 t Sie eine fundierte, zielorientierte Verfahrensauswahl treffen können, dis
 kutieren wir den Einsatz-Zweck und vergleichen Möglichkeiten und Grenzen de
 r Methoden. Somit bietet Ihnen der Workshop wichtige praktische Hinweise zu
 r Durchführung von qualitativen Selbstevaluationsvorhaben als auch konkrete
  Entscheidungshilfen für die Methodenauswahl.&nbsp;<br /><br /><strong>Acht
 ung: Die Ergebnisauswertung und Maßnahmeableitungen aus der Evaluation sind
  keine Schwerpunkte des Workshops.</strong><br /><br />Der Workshop ist vor
  allem für Lehrende geeignet, die sich neu mit dem Thema qualitative (Selbs
 t-)Evaluation von Lehrveranstaltungen auseinandersetzen.</p>\n\n\n\n<p><str
 ong>Kontakt:&nbsp;</strong><a href="mailto:antonella.ruggieri@htw-dresden.d
 e">Dr. Antonella Ruggieri</a></p>
LOCATION:online
DTSTAMP:20251210T144845
DTSTART:20260611T100000
DTEND:20260611T154500
END:VEVENT
END:VCALENDAR