BEGIN:VCALENDAR
VERSION:2.0
PRODID:https://github.com/derhansen/sf_event_mgt
BEGIN:VTIMEZONE
TZID:CET
BEGIN:DAYLIGHT
TZOFFSETFROM:+0100
TZOFFSETTO:+0200
TZNAME:Central European Summer Time
DTSTART:20160327T020000
RRULE:FREQ=YEARLY;BYDAY=-1SU;BYMONTH=3
END:DAYLIGHT
BEGIN:STANDARD
TZOFFSETFROM:+0200
TZOFFSETTO:+0100
TZNAME:Central European Time
DTSTART:20161030T030000
RRULE:FREQ=YEARLY;BYDAY=-1SU;BYMONTH=10
END:STANDARD
END:VTIMEZONE
METHOD:PUBLISH
BEGIN:VEVENT
UID:3822-448@www.htw-dresden.de
CLASS: PUBLIC
SUMMARY:Studierende zum nachhaltigen Lernen anleiten - Vermittlung von effektiven Lernstrategien in Lehrveranstaltungen
DESCRIPTION:<p>Studierende kommen in der Regel neugierig und wissbegierig i
 n Lehrveranstaltungen – doch die Fülle an neuen Informationen kann schnell 
 überfordern. Lehrende an Hochschulen stehen vor der Herausforderung, Studie
 renden komplexe Inhalte zu vermitteln und ihnen nachhaltiges Lernen zu ermö
 glichen. Dieser Workshop bietet Ihnen die Gelegenheit, zu erkunden, wie Stu
 dierende in Ihrem Fach am effektivsten lernen und wie Sie sie dabei gezielt
  unterstützen können, um die Motivation und den Lernerfolg aufrecht zu erha
 lten. Gemeinsam erfahren Sie, was die Lehr-Lernforschung über effektive Ler
 nprozesse weiß, und überlegen, wie sich dieses Wissen praxisnah in der Hoch
 schullehre einsetzen lässt. Dabei geht es nicht um zusätzliche Belastung, s
 ondern um kleine, wirksame Impulse, die Ihren Lehrveranstaltungen mehr Tief
 e und Nachhaltigkeit verleihen können. Ein besonderer Fokus liegt dabei auf
  der Vermittlung effektiver Lernstrategien im Rahmen Ihrer Lehrveranstaltun
 gen.<br /><br />Es geht dabei um Fragen wie:</p>\n\n<ul><li>Was macht nachh
 altiges Lernen aus?</li><li>Wie ist das Gehirn aufgebaut?</li><li>Wie arbei
 tet das Gedächtnis und wie werden Informationen gespeichert?</li><li>Wie ka
 nn ich meine Studierenden beim Lernen unterstützen?</li><li>Wie kann der Wi
 ssenserwerb in Lehrveranstaltungen direkt mit der Vermittlung geeigneter Le
 rnstrategien verknüpft werden?<br>Schwerpunkt des Workshops ist es, Ihr eig
 enes Lehrhandeln weiterzuentwickeln, indem Sie relevantes lernpsychologisch
 es Wissen um das Thema „Lernen ermöglichen" nicht nur kennenlernen, sondern
  auch direkt auf die eigene Lehrpraxis anwenden. Zahlreiche einfach anwendb
 are Methoden werden vorgestellt, von Ihnen selbst erlebt, um sie dann auf I
 hre eigene Lehre zu adaptieren. Dafür hinterfragen Sie eigene Lehrveranstal
 tungskonzepte hinsichtlich der Erkenntnisse der Lehr-/Lernforschung und kön
 nen sie in einem weiteren Schritt ggf. optimieren.<br><br>Es erwartet Sie e
 in Wechsel aus Kurz-Inputs, Gruppenarbeitsphasen, Reflexions- und Diskussio
 nsphasen.<br>&nbsp;</li></ul>\n\n<p>12.06.2026 | 09:00 – 12:30 Uhr Online-V
 eranstaltung</p>\n\n<p>19.06.2026 | 09:00 – 12:30 Uhr Online-Veranstaltung<
 /p>\n\n\n\n<p>Kontakt: <a href="mailto:antonella.ruggieri@htw-dresden.de">D
 r. Antonella Ruggieri</a></p>
LOCATION:Online-Veranstaltung
DTSTAMP:20260413T133250
DTSTART:20260612T090000
DTEND:20260619T123000
END:VEVENT
END:VCALENDAR