BEGIN:VCALENDAR
VERSION:2.0
PRODID:https://github.com/derhansen/sf_event_mgt
BEGIN:VTIMEZONE
TZID:CET
BEGIN:DAYLIGHT
TZOFFSETFROM:+0100
TZOFFSETTO:+0200
TZNAME:Central European Summer Time
DTSTART:20160327T020000
RRULE:FREQ=YEARLY;BYDAY=-1SU;BYMONTH=3
END:DAYLIGHT
BEGIN:STANDARD
TZOFFSETFROM:+0200
TZOFFSETTO:+0100
TZNAME:Central European Time
DTSTART:20161030T030000
RRULE:FREQ=YEARLY;BYDAY=-1SU;BYMONTH=10
END:STANDARD
END:VTIMEZONE
METHOD:PUBLISH
BEGIN:VEVENT
UID:3985-451@www.htw-dresden.de
CLASS: PUBLIC
SUMMARY:Tech &amp; Steel: Maschinenbau-Exkursion nach Tschechien
DESCRIPTION:<p>Bereits zum 4. Mal organisiert der Bereich Fahrzeugtechnik /
  Fakultät Maschinenbau eine dreitägige Studienreise in unser Nachbarland Ts
 chechien, mit dem uns die europäische Gegenwart, aber auch eine lange gemei
 nsame Geschichte verbindet. Die leistungsstarke und vielfältige tschechisch
 e Fahrzeugindustrie steht im Zentrum des Besichtigungsprogramms.<br />Es be
 stehen Möglichkeiten für persönliche Kontaktanbahnung und zur Organisation 
 individueller Ausbildungs- und Karriereschritte (Auslandspraktika, Diplomar
 beit, Jobeinstieg …).<br />Ein Kostenzuschuss über das DAAD-Programm PROMOS
  wurde beantragt<br />20 Plätze<br /><strong>Mittwoch, 30.09. – Freitag, 02
 .10.26</strong><br />Einschreibung OPAL: <a href="https://bildungsportal.sa
 chsen.de/opal/auth/RepositoryEntry/43628101646" target="_blank">https://bil
 dungsportal.sachsen.de/opal/auth/RepositoryEntry/43628101646</a></p>\n\n<p>
 <strong>Ansprechpartner:</strong><br />HTW Dresden, Bereich Fahrzeugtechnik
 , Prof. Wittmer</p>
DTSTAMP:20260212T135339
DTSTART:20260930T070000
DTEND:20261002T230000
END:VEVENT
END:VCALENDAR