BEGIN:VCALENDAR
VERSION:2.0
PRODID:https://github.com/derhansen/sf_event_mgt
BEGIN:VTIMEZONE
TZID:CET
BEGIN:DAYLIGHT
TZOFFSETFROM:+0100
TZOFFSETTO:+0200
TZNAME:Central European Summer Time
DTSTART:20160327T020000
RRULE:FREQ=YEARLY;BYDAY=-1SU;BYMONTH=3
END:DAYLIGHT
BEGIN:STANDARD
TZOFFSETFROM:+0200
TZOFFSETTO:+0100
TZNAME:Central European Time
DTSTART:20161030T030000
RRULE:FREQ=YEARLY;BYDAY=-1SU;BYMONTH=10
END:STANDARD
END:VTIMEZONE
METHOD:PUBLISH
BEGIN:VEVENT
UID:3879-3003@www.htw-dresden.de
CLASS: PUBLIC
SUMMARY:Technikwoche: Die Welt mittels Drohne und Satelliten vermessen &amp; Erstellung einer thematischen Karte mit GIS-Software
DESCRIPTION:<p>Drohnen sind heutzutage allgegenwärtig, ob als Spielzeug für
  zu Hause, für Social-Media-Aufnahmen oder professionelle Anwendungen, wie 
 beispielsweise in der Fotografie oder Filmindustrie. Aber man kann noch meh
 r damit machen! Die Fachleute der Fakultät Geoinformation geben euch einen 
 Einblick in die spannende Arbeitswelt der Geodäten, auch als Vermesser beka
 nnt. Ihr fliegt u.a. mit einer Kleindrohne und erstellt aus den digitalen B
 ildern ein virtuelles 3D-Modell. Dort, wo die Drohne nicht hinkommt oder de
 r Aufwand zu hoch wäre, können Satelliten weiterhelfen. Aus etwa 700 km Höh
 e nehmen sie ebenfalls Bilder der Erde auf und aus denen lassen sich Inform
 ationen zu Umwelt und Klima ableiten. Du willst wissen, wie das geht? Dann 
 schau vorbei!</p>\n\n<p>Zusätzlich kannst du das kreative gestalterische Le
 ben eines Kartographen ausprobieren. Auf einer Topografischen Karte werden 
 in erster Linie Dinge abgebildet, die auf dem Boden sichtbar sind. Dazu geh
 ören Gebäude, Straßen, Seen oder Wälder. Mit einer Thematischen Karte werde
 n dagegen häufig nicht sichtbare Phänomene wie Wahlergebnisse, Lebensräume 
 und landwirtschaftliche Eignung visualisiert.</p>\n\n<p>In unserem Tutorial
  erstellst du eine einfache, übersichtliche und ansprechende Karte der Bevö
 lkerung von Indonesien. Du symbolisierst außerdem Provinzen, Städte und Str
 aßen. Dabei erfährst du etwas über Formen, Farben und Dimensionen in der Ka
 rtographie sowie über allgemeine Designentscheidungen. Deine erste fertige 
 Thematische Karte kannst du natürlich als Ausdruck mitnehmen.</p>\n\n<p>Kla
 ssenstufe: 9 - 13</p>\n\n<p>Der Kurs geht von 09:00 - 14:30 Uhr (inkl. Mitt
 agspause).</p>\n\n<p>HTW Dresden, Friedrich-List-Platz 1 (Treffpunkt im Foy
 er des Hauptgebäudes)<br />Fakultät Geoinformation</p>\n\n<p><strong>Bitte 
 beachten: </strong>Die Teilnahme am Workshop ist nur dann möglich, wenn ein
 e Online-Registrierung erfolgte <strong>und </strong>zusätzlich das beigefü
 gte Anmeldeformular vollständig ausgefüllt und unterschrieben an uns zurück
 geschickt wurde. Bei minderjährigen Teilnehmern sind Einverständnis und die
  Unterschrift einer sorgeberechtigen Person unbedingt erforderlich.</p>\n\n
 <p><a href="t3://file?uid=55078"><strong>Anmeldeformular</strong></a></p>
DTSTAMP:20260123T165201
DTSTART:20260210T090000
DTEND:20260210T143000
END:VEVENT
END:VCALENDAR