BEGIN:VCALENDAR
VERSION:2.0
PRODID:https://github.com/derhansen/sf_event_mgt
BEGIN:VTIMEZONE
TZID:CET
BEGIN:DAYLIGHT
TZOFFSETFROM:+0100
TZOFFSETTO:+0200
TZNAME:Central European Summer Time
DTSTART:20160327T020000
RRULE:FREQ=YEARLY;BYDAY=-1SU;BYMONTH=3
END:DAYLIGHT
BEGIN:STANDARD
TZOFFSETFROM:+0200
TZOFFSETTO:+0100
TZNAME:Central European Time
DTSTART:20161030T030000
RRULE:FREQ=YEARLY;BYDAY=-1SU;BYMONTH=10
END:STANDARD
END:VTIMEZONE
METHOD:PUBLISH
BEGIN:VEVENT
UID:3886-3003@www.htw-dresden.de
CLASS: PUBLIC
SUMMARY:Technikwoche: Figure it out
DESCRIPTION:<p>Gestalte eine virtuelle 2D-Figur deiner Wahl mit fachspezifi
 scher Software und übertrage deine Idee mit Hilfe moderner Vermessungsinstr
 umente in die Realität. Verfolge den Projektweg vom Entwurf des Architekten
  bis zur Umsetzung durch den Geodäten.</p>\n\n<p>Klassenstufe: 9 - 13</p>\n
 \n<p>Der Kurs geht von 09:00 - 14:30 Uhr (inkl. Mittagspause).</p>\n\n<p>HT
 W Dresden, Friedrich-List-Platz 1 (Treffpunkt im Foyer des Hauptgebäudes)<b
 r />Fakultät Geoinformation</p>\n\n<p><strong>Bitte beachten: </strong>Die 
 Teilnahme am Workshop ist nur dann möglich, wenn eine Online-Registrierung 
 erfolgte <strong>und </strong>zusätzlich das beigefügte Anmeldeformular vol
 lständig ausgefüllt und unterschrieben an uns zurückgeschickt wurde. Bei mi
 nderjährigen Teilnehmern sind Einverständnis und die Unterschrift einer sor
 geberechtigen Person unbedingt erforderlich.</p>\n\n<p><a href="t3://file?u
 id=55078"><strong>Anmeldeformular</strong></a></p>
DTSTAMP:20251210T082700
DTSTART:20260211T090000
DTEND:20260211T143000
END:VEVENT
END:VCALENDAR