BEGIN:VCALENDAR
VERSION:2.0
PRODID:https://github.com/derhansen/sf_event_mgt
BEGIN:VTIMEZONE
TZID:CET
BEGIN:DAYLIGHT
TZOFFSETFROM:+0100
TZOFFSETTO:+0200
TZNAME:Central European Summer Time
DTSTART:20160327T020000
RRULE:FREQ=YEARLY;BYDAY=-1SU;BYMONTH=3
END:DAYLIGHT
BEGIN:STANDARD
TZOFFSETFROM:+0200
TZOFFSETTO:+0100
TZNAME:Central European Time
DTSTART:20161030T030000
RRULE:FREQ=YEARLY;BYDAY=-1SU;BYMONTH=10
END:STANDARD
END:VTIMEZONE
METHOD:PUBLISH
BEGIN:VEVENT
UID:3875-3003@www.htw-dresden.de
CLASS: PUBLIC
SUMMARY:Technikwoche: GPS-Schatzsuche – Programmieren mit Satelliten
DESCRIPTION:<p>Wie finden Computer mit Hilfe von Satelliten heraus, wo wir 
 sind? In diesem Workshop programmiert ihr euer eigenes GPS-System! Wer find
 et den Schatz?</p>\n\n<p>Klassenstufe: 8 - 10</p>\n\n<p>Der Kurs geht von 0
 9:00 - 12:20 Uhr.</p>\n\n<p>HTW Dresden, Friedrich-List-Platz 1 (Treffpunkt
  im Foyer des Hauptgebäudes)<br />Fakultät Geoinformation</p>\n\n<p><strong
 >Bitte beachten: </strong>Die Teilnahme am Workshop ist nur dann möglich, w
 enn eine Online-Registrierung erfolgte <strong>und </strong>zusätzlich das 
 beigefügte Anmeldeformular vollständig ausgefüllt und unterschrieben an uns
  zurückgeschickt wurde. Bei minderjährigen Teilnehmern sind Einverständnis 
 und die Unterschrift einer sorgeberechtigen Person unbedingt erforderlich.<
 /p>\n\n<p><a href="t3://file?uid=55078"><strong>Anmeldeformular</strong></a
 ></p>
DTSTAMP:20260112T173252
DTSTART:20260209T090000
DTEND:20260209T122000
END:VEVENT
END:VCALENDAR