BEGIN:VCALENDAR
VERSION:2.0
PRODID:https://github.com/derhansen/sf_event_mgt
BEGIN:VTIMEZONE
TZID:CET
BEGIN:DAYLIGHT
TZOFFSETFROM:+0100
TZOFFSETTO:+0200
TZNAME:Central European Summer Time
DTSTART:20160327T020000
RRULE:FREQ=YEARLY;BYDAY=-1SU;BYMONTH=3
END:DAYLIGHT
BEGIN:STANDARD
TZOFFSETFROM:+0200
TZOFFSETTO:+0100
TZNAME:Central European Time
DTSTART:20161030T030000
RRULE:FREQ=YEARLY;BYDAY=-1SU;BYMONTH=10
END:STANDARD
END:VTIMEZONE
METHOD:PUBLISH
BEGIN:VEVENT
UID:1891-442@www.htw-dresden.de
CLASS: PUBLIC
SUMMARY:Tipps zur Gehaltsverhandlung für Berufseinsteiger:innen
DESCRIPTION:<p>In diesem Online-Seminar erhältst du Antworten auf diese Fra
 gen und entwickelst Strategien, wie du dein Einstiegsgehalt im Vorstellungs
 gespräch sicher verhandeln kannst.&nbsp;</p>\n\n<p>"Was wollen Sie bei uns 
 verdienen?“ – eine Frage, die viele Bewerber:innen unruhig auf dem Stuhl he
 rumrutschen lässt.&nbsp;Genau darauf sollen zukünftig neben den brennenden 
 Fragen wie z.B.:&nbsp;</p>\n\n<p>• Wie viel soll man – wie viel darf man?<b
 r /> • Wo finde ich Informationen zum Thema Gehalt?<br /> • Von welchen Fak
 toren ist die Gehaltshöhe abhängig?<br /> • Welche Zusatzleistungen kann ic
 h verhandeln?</p>\n\n<p>eine Antwort gefunden werden.</p>\n\n<p><strong>Exk
 lusiv für HTW-Studierende: begrenztes Platzkontingent. Anmeldung bitte unbe
 dingt mit Angabe der s-Nummer an Frau Dr. Kathy Küchenmeister (<a href="mai
 lto:kathy.kuechenmeister@tu-dresden.de">kathy.kuechenmeister@tu-dresden.de<
 /a>)</strong></p>\n\n\n\n
LOCATION:virtuell
DTSTAMP:20211119T124122
DTSTART:20211125T140000
DTEND:20211125T153000
END:VEVENT
END:VCALENDAR