BEGIN:VCALENDAR
VERSION:2.0
PRODID:https://github.com/derhansen/sf_event_mgt
BEGIN:VTIMEZONE
TZID:CET
BEGIN:DAYLIGHT
TZOFFSETFROM:+0100
TZOFFSETTO:+0200
TZNAME:Central European Summer Time
DTSTART:20160327T020000
RRULE:FREQ=YEARLY;BYDAY=-1SU;BYMONTH=3
END:DAYLIGHT
BEGIN:STANDARD
TZOFFSETFROM:+0200
TZOFFSETTO:+0100
TZNAME:Central European Time
DTSTART:20161030T030000
RRULE:FREQ=YEARLY;BYDAY=-1SU;BYMONTH=10
END:STANDARD
END:VTIMEZONE
METHOD:PUBLISH
BEGIN:VEVENT
UID:4073-446@www.htw-dresden.de
CLASS: PUBLIC
SUMMARY:Transformation von Schutz- und Steuerungssystemen in Umspannwerken: Systemvergleich und Zukunftsperspektiven
DESCRIPTION:<p><strong>219. Wissenschaftliches Seminar</strong></p>\n\n<p>R
 eferenten: Marek Reschke, Tommy Klotke (WT Energiesysteme GmbH)</p>\n\n<p>n
 ähere Informationen folgen</p>
LOCATION:Z 407
DTSTAMP:20260401T134153
DTSTART:20260609T153000
DTEND:20260609T170000
END:VEVENT
END:VCALENDAR