BEGIN:VCALENDAR
VERSION:2.0
PRODID:https://github.com/derhansen/sf_event_mgt
BEGIN:VTIMEZONE
TZID:CET
BEGIN:DAYLIGHT
TZOFFSETFROM:+0100
TZOFFSETTO:+0200
TZNAME:Central European Summer Time
DTSTART:20160327T020000
RRULE:FREQ=YEARLY;BYDAY=-1SU;BYMONTH=3
END:DAYLIGHT
BEGIN:STANDARD
TZOFFSETFROM:+0200
TZOFFSETTO:+0100
TZNAME:Central European Time
DTSTART:20161030T030000
RRULE:FREQ=YEARLY;BYDAY=-1SU;BYMONTH=10
END:STANDARD
END:VTIMEZONE
METHOD:PUBLISH
BEGIN:VEVENT
UID:3742-442@www.htw-dresden.de
CLASS: PUBLIC
SUMMARY:Work and Residence Law During Studies and After Graduation (engl.)
DESCRIPTION:<p>Welcome Guides from the Dresden Welcome Centre of the Foreig
 ners' Office will explain the basic rules about living and working in the c
 ountry after you graduate. What options are there, and what are the deadlin
 es? What happens if there is already a job offer? How long is a job search 
 permission valid for?&nbsp;</p>\n\n<p><strong>Online Workshop (BBB)</strong
 ></p>\n\n<p><strong>Registration: </strong><a href="https://tu-dresden.de/s
 tudium/im-studium/career-service/termine/for-international-students-work-an
 d-residence-law-during-studies-and-after-graduation-engl" target="_blank"><
 strong>HERE</strong></a><strong> </strong>or mailto <a class="email" href="
 mailto:birgit.brand@tu-dresden.de"><u>birgit.brand@​tu-dresden.de</u></a> (
 For email registration, it is required to include the s-number.)</p>
LOCATION:Online
DTSTAMP:20260326T150551
DTSTART:20260528T163000
DTEND:20260528T173000
END:VEVENT
END:VCALENDAR