BEGIN:VCALENDAR
VERSION:2.0
PRODID:https://github.com/derhansen/sf_event_mgt
BEGIN:VTIMEZONE
TZID:CET
BEGIN:DAYLIGHT
TZOFFSETFROM:+0100
TZOFFSETTO:+0200
TZNAME:Central European Summer Time
DTSTART:20160327T020000
RRULE:FREQ=YEARLY;BYDAY=-1SU;BYMONTH=3
END:DAYLIGHT
BEGIN:STANDARD
TZOFFSETFROM:+0200
TZOFFSETTO:+0100
TZNAME:Central European Time
DTSTART:20161030T030000
RRULE:FREQ=YEARLY;BYDAY=-1SU;BYMONTH=10
END:STANDARD
END:VTIMEZONE
METHOD:PUBLISH
BEGIN:VEVENT
UID:4029-449@www.htw-dresden.de
CLASS: PUBLIC
SUMMARY:Lab X Workshop: Blödsinn mit Lötzinn
DESCRIPTION:<p>Das Lab X - die interdisziplinäre Ideenwerkstatt für Prototy
 ping und die Erprobung von Demonstratoren an der HTW Dresden - lädt ein zum
  nächsten Workshop. Diesmal lernt Ihr mit Lötkolben und Lötzinn mehr als nu
 r Blödsinn zu machen.</p>\n\n<p>In unserem Grundlagenworkshop lernt ihr wor
 auf es beim Löten ankommt. Wählt zwischen verschiedenen kleinen Bausätzen, 
 welche ihr mit unsrer Unterstützung selbst zusammen löten könnt. Bei Gefall
 en dürft Ihr das fertige Objekt gegen eine kleine Spende (ca. 5€) in unser 
 Materialspareinhorn mit nach Hause nehmen.</p>\n\n<p>Seid dabei, die Plätze
  sind rar und eine gute Vorbereitung für den nächsten Repair-Treff!<br />Bi
 tte tragt Euch in den <a href="https://bildungsportal.sachsen.de/opal/auth/
 RepositoryEntry/47205679104/CourseNode/1653445991901700012">Opal-Kurs für d
 en Geräteführerschein Elektronikarbeitsplatz</a> ein, absolviert den anschl
 ießenden Wissens-Test und lest Euch vor dem Workshop unsere <a href="t3://f
 ile?uid=50748">Werkstattordnung</a> durch, damit die Belehrung vor Ort dann
  schnell erledigt ist und wir Euch den Zugang zur Werkstatt freischalten kö
 nnen. Wir freuen uns auf Euch!!</p>\n\n<p><strong>Wo? HTWD, 9. Etage Z-Gebä
 ude Raum Z 915</strong></p>
LOCATION:HTW Dresden Friedrich-List-Platz 1, 01069 Dresden
DTSTAMP:20260309T140232
DTSTART:20260707T153000
DTEND:20260707T173000
END:VEVENT
END:VCALENDAR