BEGIN:VCALENDAR
VERSION:2.0
PRODID:https://github.com/derhansen/sf_event_mgt
BEGIN:VTIMEZONE
TZID:CET
BEGIN:DAYLIGHT
TZOFFSETFROM:+0100
TZOFFSETTO:+0200
TZNAME:Central European Summer Time
DTSTART:20160327T020000
RRULE:FREQ=YEARLY;BYDAY=-1SU;BYMONTH=3
END:DAYLIGHT
BEGIN:STANDARD
TZOFFSETFROM:+0200
TZOFFSETTO:+0100
TZNAME:Central European Time
DTSTART:20161030T030000
RRULE:FREQ=YEARLY;BYDAY=-1SU;BYMONTH=10
END:STANDARD
END:VTIMEZONE
METHOD:PUBLISH
BEGIN:VEVENT
UID:4059-449@www.htw-dresden.de
CLASS: PUBLIC
SUMMARY:Lab X Workshop: Hingucker aus dem 3D-Drucker
DESCRIPTION:<p>Das Lab X - die interdisziplinäre Ideenwerkstatt für Prototy
 ping und die Erprobung von Demonstratoren an der HTW Dresden - lädt ein zum
  nächsten Workshop. Diesmal lernt Ihr, wie Eure Ideen mithilfe von 3D-Druck
  greifbar werden können.</p>\n\n<p>In unserem Grundlagenworkshop lernt ihr 
 worauf es bei der Druckvorbereitung ankommt und was Ihr tun könnt, wenn das
  Druckergebnis nicht wie erwartet aussieht.&nbsp;</p>\n\n<p>Bringt gern Eur
 e eigenen Rechner mit und installiert in Vorbreitung auf den Kurs den <a hr
 ef="https://www.prusa3d.com/de/page/prusaslicer_424/">Prusa Slicer</a> und 
 <a href="https://www.autodesk.com/de/products/fusion-360/free-trial?msockid
 =23cdb19d6a3c67222b50a7726b38663f">Autodesk Fusion</a>. Dann habt Ihr im Wo
 rkshop mehr Gestaltungsfreiraum und könnt das Gelernte direkt anwenden!</p>
 \n\n<p>Wir freuen uns auf Euch!<br />Bitte lest Euch vor dem Workshop unser
 e <a href="t3://file?uid=50748">Werkstattordnung</a> durch, damit die Beleh
 rung vor Ort dann schnell erledigt ist und wir Euch den Zugang zur Werkstat
 t freischalten können. Wir freuen uns auf Euch!!</p>\n\n<p><strong>Wo? HTWD
 , 9. Etage Z-Gebäude Raum Z 901B</strong></p>
LOCATION:HTW Dresden Friedrich-List-Platz 1, 01069 Dresden
DTSTAMP:20260413T151522
DTSTART:20260417T130000
DTEND:20260417T153000
END:VEVENT
END:VCALENDAR