BEGIN:VCALENDAR
VERSION:2.0
PRODID:https://github.com/derhansen/sf_event_mgt
BEGIN:VTIMEZONE
TZID:CET
BEGIN:DAYLIGHT
TZOFFSETFROM:+0100
TZOFFSETTO:+0200
TZNAME:Central European Summer Time
DTSTART:20160327T020000
RRULE:FREQ=YEARLY;BYDAY=-1SU;BYMONTH=3
END:DAYLIGHT
BEGIN:STANDARD
TZOFFSETFROM:+0200
TZOFFSETTO:+0100
TZNAME:Central European Time
DTSTART:20161030T030000
RRULE:FREQ=YEARLY;BYDAY=-1SU;BYMONTH=10
END:STANDARD
END:VTIMEZONE
METHOD:PUBLISH
BEGIN:VEVENT
UID:2744-439@www.htw-dresden.de
CLASS: PUBLIC
SUMMARY:Workshop: Startup Idea (Teil 2)
DESCRIPTION:<p><strong>“Be less curious about people and more curious about
  ideas.” ―&nbsp;Marie Curie</strong></p>\n\n<ol> 	<li>Du wünschst dir Unabh
 ängigkeit und Selbstverwirklichung?</li> 	<li>Du hast eine Idee und suchst 
 nach einer Gelegenheit, sie auszuprobieren?</li> 	<li>Du hast eine Facharbe
 it verfasst und möchtest das Thema gern umsetzen?</li> 	<li>Du interessiers
 t dich für Startups und möchtest selbst den ersten Schritt dahin&nbsp;tun?<
 /li> 	<li>Du studierst/arbeitest an einer unserer Einrichtungen (siehe Logo
 leiste unten) oder hast die Einrichtung vor nicht länger als 5 Jahren verla
 ssen?</li> </ol>\n\n<p>Wenn einer oder mehr der Punkte zutreffen, bist du r
 ichtig im zweitägigen Startup Idea Workshop von dresden|exists.</p>\n\n<p>L
 ass dich in einem kurzen und knackigen Format inspirieren, wie du deine Ide
 e entwickeln und mit agilen Methoden an konkreten Beispielen in Richtung Ge
 schäftsmodell weiterarbeiten kannst. Gib deinem Projekt in einem interdiszi
 plinären Setting eine erste Struktur in Richtung Startup.</p>\n\n<p>In 2x3 
 Stunden bekommst du einen Einblick, wie nutzerzentrierte Innovationen entst
 ehen können. Komm mit oder ohne Idee und lass dich inspirieren.</p>\n\n<p>W
 ir freuen uns auf&nbsp;dich!</p>\n\n<p>Ort: dresdenIexists, Chemnitzer Stra
 ße 50, 01187 Dresden</p>
LOCATION:dresden|exists im Falkenbrunnen
DTSTAMP:20230901T100952
DTSTART:20230919T150000
DTEND:20230919T180000
END:VEVENT
END:VCALENDAR