BEGIN:VCALENDAR
VERSION:2.0
PRODID:https://github.com/derhansen/sf_event_mgt
BEGIN:VTIMEZONE
TZID:CET
BEGIN:DAYLIGHT
TZOFFSETFROM:+0100
TZOFFSETTO:+0200
TZNAME:Central European Summer Time
DTSTART:20160327T020000
RRULE:FREQ=YEARLY;BYDAY=-1SU;BYMONTH=3
END:DAYLIGHT
BEGIN:STANDARD
TZOFFSETFROM:+0200
TZOFFSETTO:+0100
TZNAME:Central European Time
DTSTART:20161030T030000
RRULE:FREQ=YEARLY;BYDAY=-1SU;BYMONTH=10
END:STANDARD
END:VTIMEZONE
METHOD:PUBLISH
BEGIN:VEVENT
UID:3938-4130@www.htw-dresden.de
CLASS: PUBLIC
SUMMARY:Yoga am Hauptcampus - laufender Kurs
DESCRIPTION:<p>In jeder Einheit setzen wir den Fokus an einen anderen Theme
 nbereich und probieren verschiedenste Übungen und Stimmungsqualitäten aus d
 em unendlichen Feld der Yogapraxis. Die Einleitungen werden an eure aktuell
 en Möglichkeiten angepasst und mehrere Varianten/Schwierigkeitsgrade anbiet
 en, so dass jede/r in ihrem/seinem Tempo gut mitmachen kann.</p>\n\n<p>Freu
 e mich euch auf der Matte zu treffen ;) Jindriska Martinkova&nbsp;</p>\n\n<
 p>_________________________________________________________________________
 _______________________________________________________</p>\n\n<p>Der Kurs 
 umfasst <strong>10 Yogastunden á 60 min</strong> und findet <strong>wöchent
 lich am Dienstag </strong>ab dem 14. April statt.<br />Die Kosten für den K
 urszeitraum betragen für <strong>HTW-Mitglieder 40 €</strong> und <strong>f
 ür Gäste 50 €</strong>.&nbsp;</p>\n\n<p>Raum:<strong> Z 701</strong><br />Z
 eit: <strong>16:00 - 17:00 Uhr&nbsp;</strong></p>\n\n<p><i>Die Anmeldefrist
  ist abgelaufen, da der Kurs bereits seit 15. 04.2026 läuft. Bei Interesse 
 an einem späteren Einstieg senden Sie bitte eine Mail an </i><a href="https
 ://www.htw-dresden.de/hochschule/aktuelles/veranstaltungen/detailseite/yoga
 kurs-in-pillnitz-1-1-1-1-1#"><i><u>gesund(at)htw-dresden.de</u></i></a><i> 
 und erfragen die Platzkapazitäten.</i><br /><i>Es ist allerdings kein Staff
 elpreis vorgesehen (Pauschalpreis). Die Kosten des Kurses werden Ihnen zum 
 Kursende in Rechnung gestellt.</i></p>
LOCATION:Z 701
DTSTAMP:20260224T105925
DTSTART:20260421T160000
DTEND:20260421T170000
END:VEVENT
END:VCALENDAR