BEGIN:VCALENDAR
VERSION:2.0
PRODID:https://github.com/derhansen/sf_event_mgt
BEGIN:VTIMEZONE
TZID:CET
BEGIN:DAYLIGHT
TZOFFSETFROM:+0100
TZOFFSETTO:+0200
TZNAME:Central European Summer Time
DTSTART:20160327T020000
RRULE:FREQ=YEARLY;BYDAY=-1SU;BYMONTH=3
END:DAYLIGHT
BEGIN:STANDARD
TZOFFSETFROM:+0200
TZOFFSETTO:+0100
TZNAME:Central European Time
DTSTART:20161030T030000
RRULE:FREQ=YEARLY;BYDAY=-1SU;BYMONTH=10
END:STANDARD
END:VTIMEZONE
METHOD:PUBLISH
BEGIN:VEVENT
UID:3942-4130@www.htw-dresden.de
CLASS: PUBLIC
SUMMARY:Yoga in Pillnitz - Kursende
DESCRIPTION:<p><strong>Yoga mit Franziska Erfurth</strong></p>\n\n<p>Der Ku
 rs kombiniert Dehnung und Stärkung des Körpers sowie Atem- und Achtsamkeits
 übungen.<br />Er umfasst <strong>10 Yogastunden á 60 min</strong> und finde
 t wöchentlich <strong>mittwochs </strong>zwischen dem <strong>18. März - 27
 . Mai 2026</strong> statt.</p>\n\n<p>Lernen Sie die Yogalehrerin kennen und
  besuchen die Webseite: <a href="https://www.miyomo.de/" target="_blank" re
 l="noreferrer"><u>https://www.miyomo.de/</u></a></p>\n\n<p>Zeit: <strong>14
 .00 -15.00 Uhr</strong><br />Raum: Zeichensaal <strong>PN 101</strong><br /
 >Kosten: <strong>40€</strong> für HTW-Angehörige, 50€ für Gäste</p>\n\n<p>+
  + Yoga - positive Auswirkungen im Arbeitsumfeld + +&nbsp;</p>\n\n<ul><li>d
 as Stresslevel / Krankenstand senken</li><li>Gesundheit verbessern, Körper 
 bewusster wahrnehmen, Schmerzen reduzieren</li><li>Produktivität steigern, 
 durch verbesserte Konzentrationsfähigkeit</li><li>Teamgeist stärken, gemein
 same körperliche Betätigung wirkt sich positiv auf das kollegiale Miteinand
 er aus</li></ul>
LOCATION:Campus Pillnitz
DTSTAMP:20260217T081209
DTSTART:20260527T140000
DTEND:20260527T150000
END:VEVENT
END:VCALENDAR