BEGIN:VCALENDAR
VERSION:2.0
PRODID:https://github.com/derhansen/sf_event_mgt
BEGIN:VTIMEZONE
TZID:CET
BEGIN:DAYLIGHT
TZOFFSETFROM:+0100
TZOFFSETTO:+0200
TZNAME:Central European Summer Time
DTSTART:20160327T020000
RRULE:FREQ=YEARLY;BYDAY=-1SU;BYMONTH=3
END:DAYLIGHT
BEGIN:STANDARD
TZOFFSETFROM:+0200
TZOFFSETTO:+0100
TZNAME:Central European Time
DTSTART:20161030T030000
RRULE:FREQ=YEARLY;BYDAY=-1SU;BYMONTH=10
END:STANDARD
END:VTIMEZONE
METHOD:PUBLISH
BEGIN:VEVENT
UID:3667-4130@www.htw-dresden.de
CLASS: PUBLIC
SUMMARY:Yoga in Pillnitz
DESCRIPTION:<p><strong>Yoga mit Franziska Erfurth</strong></p>\n\n<p>Der Ku
 rs kombiniert Dehnung und Stärkung des Körpers sowie Atem- und Achtsamkeits
 übungen.<br />Er umfasst <strong>10 Yogastunden á 60 min</strong> und finde
 t wöchentlich <strong>mittwochs </strong>zwischen dem <strong>10. September
  - 12. November 2025</strong> statt.</p>\n\n<p>+ + Yoga - positive Auswirku
 ngen im Arbeitsumfeld + +&nbsp;</p>\n\n<ul><li>das Stresslevel / Krankensta
 nd senken</li><li>Gesundheit verbessern, Körper bewusster wahrnehmen, Schme
 rzen reduzieren</li><li>Produktivität steigern, durch verbesserte Konzentra
 tionsfähigkeit</li><li><p>Teamgeist stärken, gemeinsame körperliche Betätig
 ung wirkt sich positiv auf das kollegiale Miteinander aus</p><p><br>Zeit: <
 strong>14.00 -15.00 Uhr</strong><br>Raum: Zeichensaal <strong>P1 014 (Verle
 gung)</strong><br>Kosten: <strong>40€</strong> für HTW-Angehörige, 50€ für 
 Gäste</p></li></ul>\n\n<p><i>Die Anmeldefrist ist abgelaufen, da der Kurs b
 ereits seit 10.09.2025 läuft. Bei Interesse an einem späteren Einstieg send
 en Sie bitte eine Mail an </i><a href="https://www.htw-dresden.de/hochschul
 e/aktuelles/veranstaltungen/detailseite/yogakurs-in-pillnitz-1-1-1-1-1#"><i
 ><u>gesund(at)htw-dresden.de</u></i></a><i> und erfragen vorab die Platzkap
 azitäten bei </i><a href="https://www.htw-dresden.de/hochschule/aktuelles/v
 eranstaltungen/detailseite/yogakurs-in-pillnitz-1-1-1-1-1#"><i><u>nick.breu
 er(at)htw-dresden.de</u></i></a><i>&nbsp;</i><br /><i>Es ist allerdings kei
 n Staffelpreis vorgesehen (Pauschalpreis). Die Kosten des Kurses werden Ihn
 en zum Kursende in Rechnung gestellt.</i></p>
LOCATION:Campus Pillnitz
DTSTAMP:20250807T213908
DTSTART:20250917T140000
DTEND:20250917T150000
END:VEVENT
END:VCALENDAR