BEGIN:VCALENDAR
VERSION:2.0
PRODID:https://github.com/derhansen/sf_event_mgt
BEGIN:VTIMEZONE
TZID:CET
BEGIN:DAYLIGHT
TZOFFSETFROM:+0100
TZOFFSETTO:+0200
TZNAME:Central European Summer Time
DTSTART:20160327T020000
RRULE:FREQ=YEARLY;BYDAY=-1SU;BYMONTH=3
END:DAYLIGHT
BEGIN:STANDARD
TZOFFSETFROM:+0200
TZOFFSETTO:+0100
TZNAME:Central European Time
DTSTART:20161030T030000
RRULE:FREQ=YEARLY;BYDAY=-1SU;BYMONTH=10
END:STANDARD
END:VTIMEZONE
METHOD:PUBLISH
BEGIN:VEVENT
UID:3824-448@www.htw-dresden.de
CLASS: PUBLIC
SUMMARY:Zeitgemäß lehren nach dem Flipped-Classroom-Prinzip
DESCRIPTION:<p>Viele Lehrende haben in den letzten Jahren zunehmend den Ein
 druck gewonnen, dass die Studierendengruppen heterogener werden. Dies macht
  das Unterrichten gefühlt schwerer. Dazu kommt, dass auf Informationen imme
 r leichter zugegriffen werden kann. Berufstätige müssen in der Lage sein, s
 ich selbständig in Themen einzuarbeiten, kreativ und kritisch auf Informati
 onen zu blicken, und ihre Erkenntnisse mit anderen Menschen zu teilen.<br /
 ><br />Eine Lehrstrategie, die diesen Entwicklungen gerecht wird, ist das P
 rinzip des Flipped Classroom. Dabei wird die Phase der Wissensaneignung ins
  vorbereitende Selbststudium verlegt – so kann die gemeinsame Präsenz für R
 eflexion und Übung genutzt werden.&nbsp;Wie Sie Flipped Classroom in Ihre L
 ehrveranstaltung integrieren können, welche Herausforderungen und Chancen d
 as Modell bietet, lernen Sie in dieser hochschuldidaktischen Veranstaltung.
  Da die Veranstaltung selbst in Form eines Flipped Classrooms konzipiert is
 t, lernen Sie dieses Prinzip nicht nur theoretisch kennen, sondern erleben 
 es auch ganz praktisch.</p>\n\n\n\n<p>Kontakt: <a href="mailto:antonella.ru
 ggieri@htw-dresden.de">Dr. Antonella Ruggieri</a></p>
LOCATION:Online-Veranstaltung
DTSTAMP:20251104T112431
DTSTART:20260625T143000
DTEND:20260625T170000
END:VEVENT
END:VCALENDAR