BEGIN:VCALENDAR
VERSION:2.0
PRODID:https://github.com/derhansen/sf_event_mgt
BEGIN:VTIMEZONE
TZID:CET
BEGIN:DAYLIGHT
TZOFFSETFROM:+0100
TZOFFSETTO:+0200
TZNAME:Central European Summer Time
DTSTART:20160327T020000
RRULE:FREQ=YEARLY;BYDAY=-1SU;BYMONTH=3
END:DAYLIGHT
BEGIN:STANDARD
TZOFFSETFROM:+0200
TZOFFSETTO:+0100
TZNAME:Central European Time
DTSTART:20161030T030000
RRULE:FREQ=YEARLY;BYDAY=-1SU;BYMONTH=10
END:STANDARD
END:VTIMEZONE
METHOD:PUBLISH
BEGIN:VEVENT
UID:1491-441@www.htw-dresden.de
CLASS: PUBLIC
SUMMARY:Zukunft studieren - digitaler Infovortrag zu Bewerbung und Studium an der HTW Dresden
DESCRIPTION:<h4><strong>Digitaler Infovortrag zu Bewerbung und Studium an d
 er HTW Dresden&nbsp;</strong></h4>\n\n<ul><li class="ck-list-marker-bold" d
 ata-list-item-id="e4cee6c5a8f62af02b85f5291ef74bbf0"><strong>29.04.2026 /&n
 bsp;14:00 – 15:00 Uhr&nbsp;</strong></li></ul>\n\n<p><strong>Was kann ich a
 n der HTW Dresden studieren? Wie läuft der Bewerbungsprozess ab? Welche Fri
 sten und Besonderheiten sind zu beachten? Diese und viele weitere Fragen kl
 ären unsere Studienberaterinnen Mira Höfler und Josefin Päßler im Informati
 onsvortrag.</strong></p>\n\n<ul><li data-list-item-id="e2fa61e7e08f681fb598
 d5f349145387c"><strong>Dauer:</strong>&nbsp;ca. 35 Minuten Vortrag und dana
 ch Möglichkeit zur Klärung individueller Fragen.</li><li data-list-item-id=
 "e1ee92fd6e597c6d84b3c5bf2356d6b4d"><p>Die Veranstaltung findet online via 
 BigBlueButton in deutscher Sprache statt und ist <strong>selbstverständlich
  kostenfrei</strong>.&nbsp;</p><p>Wir bitten um Anmeldung. Den Zugangslink 
 erhalten Sie per E-Mail rechtzeitig vor der Veranstaltung.</p></li></ul>\n\
 n<p>Sollten Sie am 29.04. verhindert sein, bieten wir den Vortrag noch einm
 al am 08. Juli 2026, ab 14.00 Uhr an. <a href="https://www.htw-dresden.de/h
 ochschule/aktuelles/veranstaltungen/detailseite/zukunft-studieren-digitaler
 -infovortrag-zu-bewerbung-und-studium-an-der-htw-dresden">Zur zweiten Veran
 staltung und Anmeldung.</a></p>\n\n\n\n<hr />\n\n\n\n
DTSTAMP:20260422T153953
DTSTART:20260429T140000
DTEND:20260429T150000
END:VEVENT
END:VCALENDAR