BEGIN:VCALENDAR
VERSION:2.0
PRODID:https://github.com/derhansen/sf_event_mgt
BEGIN:VTIMEZONE
TZID:CET
BEGIN:DAYLIGHT
TZOFFSETFROM:+0100
TZOFFSETTO:+0200
TZNAME:Central European Summer Time
DTSTART:20160327T020000
RRULE:FREQ=YEARLY;BYDAY=-1SU;BYMONTH=3
END:DAYLIGHT
BEGIN:STANDARD
TZOFFSETFROM:+0200
TZOFFSETTO:+0100
TZNAME:Central European Time
DTSTART:20161030T030000
RRULE:FREQ=YEARLY;BYDAY=-1SU;BYMONTH=10
END:STANDARD
END:VTIMEZONE
METHOD:PUBLISH
BEGIN:VEVENT
UID:1967-441@www.htw-dresden.de
CLASS: PUBLIC
SUMMARY:Zukunft studieren - digitaler Infovortrag zu Bewerbung und Studium an der HTW Dresden
DESCRIPTION:<h4><strong>Digitaler Infovortrag zu Bewerbung und Studium an d
 er HTW Dresden&nbsp;</strong><br>&nbsp;</h4>\n\n<ul><li><strong>08.07.2026&
 nbsp;/&nbsp;14:00 - 15:00 Uhr&nbsp;</strong></li></ul>\n\n<p><strong>Was ka
 nn ich an der HTW Dresden studieren? Wie läuft der Bewerbungsprozess ab? We
 lche Fristen und Besonderheiten sind zu beachten? Diese und viele weitere F
 ragen klären unsere Studienberaterinnen Mira Höfler und Josefin Päßler im I
 nformationsvortrag.</strong></p>\n\n<ul><li><strong>Dauer:</strong>&nbsp;ca
 . 35 Minuten Vortrag und danach Möglichkeit zur Klärung individueller Frage
 n.</li><li>Die Veranstaltung findet online via BigBlueButton in deutscher S
 prache statt und ist <strong>selbstverständlich kostenfrei</strong>.&nbsp;<
 /li></ul>\n\n<p>Wir bitten um Anmeldung. Den Zugangslink erhalten Sie per E
 -Mail rechtzeitig vor der Veranstaltung.</p>\n\n<hr />\n\n\n\n
DTSTAMP:20251201T134123
DTSTART:20260708T140000
DTEND:20260708T150000
END:VEVENT
END:VCALENDAR