BEGIN:VCALENDAR
VERSION:2.0
PRODID:https://github.com/derhansen/sf_event_mgt
BEGIN:VTIMEZONE
TZID:CET
BEGIN:DAYLIGHT
TZOFFSETFROM:+0100
TZOFFSETTO:+0200
TZNAME:Central European Summer Time
DTSTART:20160327T020000
RRULE:FREQ=YEARLY;BYDAY=-1SU;BYMONTH=3
END:DAYLIGHT
BEGIN:STANDARD
TZOFFSETFROM:+0200
TZOFFSETTO:+0100
TZNAME:Central European Time
DTSTART:20161030T030000
RRULE:FREQ=YEARLY;BYDAY=-1SU;BYMONTH=10
END:STANDARD
END:VTIMEZONE
METHOD:PUBLISH
BEGIN:VEVENT
UID:3806-448@www.htw-dresden.de
CLASS: PUBLIC
SUMMARY:Zurück in den Seminarraum: Beziehungen zu Studierenden aufbauen und über ein Semester halten
DESCRIPTION:<p>Wer kennt die Situation nicht? Zu Beginn des Semesters ist d
 er Seminarraum voll mit Studierenden, und im Zeitverlauf sinkt die Zahl der
 er, die den Weg in die Lehrveranstaltung finden, deutlich. Und nicht nur da
 s: Aufgrund unterschiedlicher Einflüsse, wie der permanenten Präsenz digita
 ler Medien auf Seiten der Studierenden oder der Verfügbarkeit von Künstlich
 er Intelligenz, wird es zudem immer schwerer, die Aufmerksamkeit derer zu b
 ekommen, die den Weg in unsere Seminare finden. Eine zentrale Herausforderu
 ng der Hochschullehre besteht aktuell darin, Studierende dauerhaft an Lehrv
 eranstaltungen zu binden.</p>\n\n<h5>Termine:</h5>\n\n<p>06.07.2026 | 09:00
  – 13:00 Uhr</p>\n\n<p>10.07.2026 | 09:00 – 13:00 Uhr</p>\n\n<p>Kontakt: <a
  href="mailto:antonella.ruggieri@htw-dresden.de">Dr. Antonella Ruggieri</a>
 </p>
LOCATION:Online-Veranstaltung
DTSTAMP:20251104T112702
DTSTART:20260706T090000
DTEND:20260710T130000
END:VEVENT
END:VCALENDAR