BEGIN:VCALENDAR
VERSION:2.0
PRODID:https://github.com/derhansen/sf_event_mgt
BEGIN:VTIMEZONE
TZID:CET
BEGIN:DAYLIGHT
TZOFFSETFROM:+0100
TZOFFSETTO:+0200
TZNAME:Central European Summer Time
DTSTART:20160327T020000
RRULE:FREQ=YEARLY;BYDAY=-1SU;BYMONTH=3
END:DAYLIGHT
BEGIN:STANDARD
TZOFFSETFROM:+0200
TZOFFSETTO:+0100
TZNAME:Central European Time
DTSTART:20161030T030000
RRULE:FREQ=YEARLY;BYDAY=-1SU;BYMONTH=10
END:STANDARD
END:VTIMEZONE
METHOD:PUBLISH
BEGIN:VEVENT
UID:3977-439@www.htw-dresden.de
CLASS: PUBLIC
SUMMARY:How to? – Finanzierungskonzept
DESCRIPTION:<p>Du spielst mit dem Gedanken, dein eigenes Unternehmen zu grü
 nden – oder hast vielleicht schon eine konkrete Idee? In unserem Seminar be
 kommst du einen Überblick über die wichtigsten Elemente des Finanzierungsko
 nzeptes. Ob für die eigene Planung, das Startkapital von der Bank oder zur 
 Vorlage bei einem Business Angel – ein aussagefähiges Finanzierungskonzept 
 bietet die Möglichkeit einer sicheren Planung und ist Grundlage für die Tra
 gfähigkeit des Gründungsvorhabens.</p>\n\n<p><strong>Das erwartet dich:</st
 rong></p>\n\n<ul><li>Planungen zu Umsatz, Kosten und Gewinn</li><li>Liquidi
 tätsplanung</li><li>Kapitalbedarfsplanung</li><li>Fremdkapital und relevant
 e Parameter wie Zinsen, Tilgung etc.</li></ul>\n\n<p><strong>Zielgruppe:</s
 trong> Das Seminar richtet sich an angehende Existenzgründer:innen und Stud
 ierende.</p>\n\n<p><strong>Die Teilnahme ist kostenfrei, die Veranstaltung 
 findet sowohl </strong><a href="https://www.htw-dresden.de/gruendung" title
 ="HTW-Gründungsschmiede " target="_blank"><strong>live in der HTW-Gründungs
 schmied</strong></a><strong>e als auch online statt. Den Link erhaltet ihr 
 nach der Anmeldung.</strong><br /><strong>Die Anmeldefrist endet am 09.06.2
 026 um 9 Uhr.</strong></p>
LOCATION:Digital über Zoom
DTSTAMP:20260318T105157
DTSTART:20260609T153000
DTEND:20260609T170000
END:VEVENT
END:VCALENDAR