BEGIN:VCALENDAR
VERSION:2.0
PRODID:https://github.com/derhansen/sf_event_mgt
BEGIN:VTIMEZONE
TZID:CET
BEGIN:DAYLIGHT
TZOFFSETFROM:+0100
TZOFFSETTO:+0200
TZNAME:Central European Summer Time
DTSTART:20160327T020000
RRULE:FREQ=YEARLY;BYDAY=-1SU;BYMONTH=3
END:DAYLIGHT
BEGIN:STANDARD
TZOFFSETFROM:+0200
TZOFFSETTO:+0100
TZNAME:Central European Time
DTSTART:20161030T030000
RRULE:FREQ=YEARLY;BYDAY=-1SU;BYMONTH=10
END:STANDARD
END:VTIMEZONE
METHOD:PUBLISH
BEGIN:VEVENT
UID:3974-439@www.htw-dresden.de
CLASS: PUBLIC
SUMMARY:How to? – Kalkulation von Handelsgeschäften
DESCRIPTION:<p>Wie funktioniert eigentlich die Kalkulation in einem Handels
 geschäft?<br />Die Kalkulation beim Handel von Waren und Produkten gehört z
 u den wichtigsten betriebswirtschaftlichen Grundlagen für Startups und Unte
 rnehmen. Der wirtschaftliche Erfolg hängt maßgeblich von einer soliden Kalk
 ulation ab. Jedes Produkt muss seinen Beitrag zur Rentabilität leisten, dam
 it euer Geschäftsmodell langfristig tragfähig bleibt.</p>\n\n<p>Wie ihr eur
 e Produkte richtig kalkuliert und wirtschaftlich erfolgreich verkauft, erfa
 hrt ihr in diesem Seminar.</p>\n\n<p>Anhand praxisnaher Beispiele vermittel
 t euch Heinrich Leuschner, wie ihr mit einfachen Excel-Tools:</p>\n\n<ul><l
 i>die <strong>Kalkulation eurer Produkte</strong> strukturiert aufbaut,</li
 ><li>den <strong>Break-Even-Point</strong> berechnet,</li><li>verschiedene 
 <strong>Kostenrechnungsarten</strong> versteht und anwendet.</li></ul>\n\n<
 p>Durch reale Fallbeispiele und eure eigenen Fragestellungen entwickeln wir
  gemeinsam Lösungen für typische Herausforderungen in der Kalkulation.</p>\
 n\n<p><strong>Zielgruppe:</strong> Das Seminar richtet sich an angehende Ex
 istenzgründer:innen, Studierende mit Management-Ambitionen sowie alle, die 
 ihr Verständnis für betriebswirtschaftliche Kennzahlen vertiefen möchten.</
 p>\n\n<p><strong>Teilnahmeberechtigt</strong> sind Studierende, Alumni, Wis
 senschaftler:innen und Beschäftigte der HTWD und der <a href="https://www.d
 resden-exists.de/uber-dresden-exists/fokus/" target="_blank" rel="noreferre
 r"><u>Partnereinrichtungen im Verbund von dresdenIexists.</u></a></p>\n\n<p
 ><strong>Die Teilnahme ist kostenfrei, die Veranstaltung findet sowohl </st
 rong><a href="https://www.htw-dresden.de/gruendung" title="HTW-Gründungssch
 miede " target="_blank"><strong>live in der HTW-Gründungsschmied</strong></
 a><strong>e als auch online statt. Den Link zum Online-Seminar erhaltet ihr
  nach der Anmeldung.</strong><br /><strong>Die Anmeldefrist endet am 14.04.
 2026 um 9 Uhr.</strong></p>
LOCATION:Digital über Zoom
DTSTAMP:20260318T105115
DTSTART:20260414T153000
DTEND:20260414T170000
END:VEVENT
END:VCALENDAR